BEGIN:VCALENDAR
VERSION:2.0
PRODID:-//Indianola Athletic Booster Club - ECPv6.15.20//NONSGML v1.0//EN
CALSCALE:GREGORIAN
METHOD:PUBLISH
X-ORIGINAL-URL:https://indianolaathletics.com
X-WR-CALDESC:Events for Indianola Athletic Booster Club
REFRESH-INTERVAL;VALUE=DURATION:PT1H
X-Robots-Tag:noindex
X-PUBLISHED-TTL:PT1H
BEGIN:VTIMEZONE
TZID:America/Chicago
BEGIN:DAYLIGHT
TZOFFSETFROM:-0600
TZOFFSETTO:-0500
TZNAME:CDT
DTSTART:20230312T080000
END:DAYLIGHT
BEGIN:STANDARD
TZOFFSETFROM:-0500
TZOFFSETTO:-0600
TZNAME:CST
DTSTART:20231105T070000
END:STANDARD
BEGIN:DAYLIGHT
TZOFFSETFROM:-0600
TZOFFSETTO:-0500
TZNAME:CDT
DTSTART:20240310T080000
END:DAYLIGHT
BEGIN:STANDARD
TZOFFSETFROM:-0500
TZOFFSETTO:-0600
TZNAME:CST
DTSTART:20241103T070000
END:STANDARD
BEGIN:DAYLIGHT
TZOFFSETFROM:-0600
TZOFFSETTO:-0500
TZNAME:CDT
DTSTART:20250309T080000
END:DAYLIGHT
BEGIN:STANDARD
TZOFFSETFROM:-0500
TZOFFSETTO:-0600
TZNAME:CST
DTSTART:20251102T070000
END:STANDARD
END:VTIMEZONE
BEGIN:VEVENT
DTSTART;TZID=America/Chicago:20240628T060000
DTEND;TZID=America/Chicago:20240628T060000
DTSTAMP:20260424T090437
CREATED:20231205T165010Z
LAST-MODIFIED:20240628T031810Z
UID:10004274-1719554400-1719554400@indianolaathletics.com
SUMMARY:Softball: Varsity  vs.  Urbandale North Polk Johnston Dowling Catholic Des Moines Roosevelt Ballard Ankeny Centennial Ankeny Adel DeSoto Minburn CSD Norwalk">Multiple Schools (Away)
DESCRIPTION:Type: Invitational  Opponent:  Urbandale North Polk Johnston Dowling Catholic Des Moines Roosevelt Ballard Ankeny Centennial Ankeny Adel DeSoto Minburn CSD Norwalk”>Multiple Schools  Bus: 9:00AM  Dismissal:   Est.return:   Comments: 11:00 AM vs Centennial | Old HS Field 2:30 PM vs Roosevelt | Community Field
URL:https://indianolaathletics.com/event/softball-varsity-vs-adel-desoto-minburn-csd-ankeny-ankeny-centennial-des-moines-roosevelt-dowling-catholic-earlham-johnston-north-polk-norwalk-urbandalemultiple-schools-away/
LOCATION:DCG BB/SB Complex-Dallas Center
CATEGORIES:Softball
END:VEVENT
END:VCALENDAR