BEGIN:VCALENDAR
VERSION:2.0
PRODID:-//Indianola Athletic Booster Club - ECPv6.15.20//NONSGML v1.0//EN
CALSCALE:GREGORIAN
METHOD:PUBLISH
X-WR-CALNAME:Indianola Athletic Booster Club
X-ORIGINAL-URL:https://indianolaathletics.com
X-WR-CALDESC:Events for Indianola Athletic Booster Club
REFRESH-INTERVAL;VALUE=DURATION:PT1H
X-Robots-Tag:noindex
X-PUBLISHED-TTL:PT1H
BEGIN:VTIMEZONE
TZID:America/Chicago
BEGIN:DAYLIGHT
TZOFFSETFROM:-0600
TZOFFSETTO:-0500
TZNAME:CDT
DTSTART:20230312T080000
END:DAYLIGHT
BEGIN:STANDARD
TZOFFSETFROM:-0500
TZOFFSETTO:-0600
TZNAME:CST
DTSTART:20231105T070000
END:STANDARD
BEGIN:DAYLIGHT
TZOFFSETFROM:-0600
TZOFFSETTO:-0500
TZNAME:CDT
DTSTART:20240310T080000
END:DAYLIGHT
BEGIN:STANDARD
TZOFFSETFROM:-0500
TZOFFSETTO:-0600
TZNAME:CST
DTSTART:20241103T070000
END:STANDARD
BEGIN:DAYLIGHT
TZOFFSETFROM:-0600
TZOFFSETTO:-0500
TZNAME:CDT
DTSTART:20250309T080000
END:DAYLIGHT
BEGIN:STANDARD
TZOFFSETFROM:-0500
TZOFFSETTO:-0600
TZNAME:CST
DTSTART:20251102T070000
END:STANDARD
BEGIN:DAYLIGHT
TZOFFSETFROM:-0600
TZOFFSETTO:-0500
TZNAME:CDT
DTSTART:20260308T080000
END:DAYLIGHT
BEGIN:STANDARD
TZOFFSETFROM:-0500
TZOFFSETTO:-0600
TZNAME:CST
DTSTART:20261101T070000
END:STANDARD
END:VTIMEZONE
BEGIN:VEVENT
DTSTART;TZID=America/Chicago:20250417T190000
DTEND;TZID=America/Chicago:20250417T190000
DTSTAMP:20260419T075823
CREATED:20250122T161708Z
LAST-MODIFIED:20250416T194944Z
UID:10005043-1744916400-1744916400@indianolaathletics.com
SUMMARY:Soccer: Girls Varsity  vs. Des Moines East (Away)
DESCRIPTION:Type: Match  Opponent: Des Moines East
URL:https://indianolaathletics.com/event/soccer-girls-varsity-vs-des-moines-east-away/
LOCATION:Des Moines East High School
CATEGORIES:Girls Soccer
END:VEVENT
BEGIN:VEVENT
DTSTART;TZID=America/Chicago:20250417T170000
DTEND;TZID=America/Chicago:20250417T170000
DTSTAMP:20260419T075823
CREATED:20250122T161708Z
LAST-MODIFIED:20250416T194943Z
UID:10005042-1744909200-1744909200@indianolaathletics.com
SUMMARY:Soccer: Girls JV 1  vs. Des Moines East (Away)
DESCRIPTION:Type: Match  Opponent: Des Moines East
URL:https://indianolaathletics.com/event/soccer-girls-jv-1-vs-des-moines-east-away/
LOCATION:Des Moines East High School
CATEGORIES:Girls Soccer
END:VEVENT
BEGIN:VEVENT
DTSTART;TZID=America/Chicago:20250218T194500
DTEND;TZID=America/Chicago:20250218T194500
DTSTAMP:20260419T075823
CREATED:20240502T021714Z
LAST-MODIFIED:20250212T163443Z
UID:10004680-1739907900-1739907900@indianolaathletics.com
SUMMARY:Basketball: Boys Varsity  vs. Des Moines East (Away)
DESCRIPTION:Type: Game  Opponent: Des Moines East  Bus: 5:45PM  Dismissal:   Est.return:
URL:https://indianolaathletics.com/event/basketball-boys-varsity-vs-des-moines-east-away-2/
LOCATION:Des Moines East High School
CATEGORIES:Boys Basketball
END:VEVENT
BEGIN:VEVENT
DTSTART;TZID=America/Chicago:20250218T181500
DTEND;TZID=America/Chicago:20250218T181500
DTSTAMP:20260419T075823
CREATED:20240502T021714Z
LAST-MODIFIED:20250212T163443Z
UID:10004679-1739902500-1739902500@indianolaathletics.com
SUMMARY:Basketball: Boys 10th Grade  vs. Des Moines East (Away)
DESCRIPTION:Type: Game  Opponent: Des Moines East  Bus: 3:30PM  Dismissal:   Est.return:
URL:https://indianolaathletics.com/event/basketball-boys-10th-grade-vs-des-moines-east-away-3/
LOCATION:Des Moines East High School
CATEGORIES:Boys Basketball
END:VEVENT
BEGIN:VEVENT
DTSTART;TZID=America/Chicago:20250218T164500
DTEND;TZID=America/Chicago:20250218T164500
DTSTAMP:20260419T075823
CREATED:20240502T021713Z
LAST-MODIFIED:20250212T163443Z
UID:10004678-1739897100-1739897100@indianolaathletics.com
SUMMARY:Basketball: Boys 9th Grade  vs. Des Moines East (Away)
DESCRIPTION:Type: Game  Opponent: Des Moines East  Bus: 3:30PM  Dismissal:   Est.return:
URL:https://indianolaathletics.com/event/basketball-boys-9th-grade-vs-des-moines-east-away-3/
LOCATION:Des Moines East High School
CATEGORIES:Boys Basketball
END:VEVENT
BEGIN:VEVENT
DTSTART;TZID=America/Chicago:20240703T123000
DTEND;TZID=America/Chicago:20240703T123000
DTSTAMP:20260419T075823
CREATED:20240628T024809Z
LAST-MODIFIED:20240703T030308Z
UID:10004845-1720009800-1720009800@indianolaathletics.com
SUMMARY:Baseball: Varsity  vs. Des Moines East (Away)
DESCRIPTION:Type: Game  Opponent: Des Moines East  Bus: 2:00PM  Dismissal:   Est.return:
URL:https://indianolaathletics.com/event/baseball-varsity-vs-des-moines-east-away-3/
LOCATION:Des Moines East High School
CATEGORIES:Baseball
END:VEVENT
BEGIN:VEVENT
DTSTART;TZID=America/Chicago:20240703T103000
DTEND;TZID=America/Chicago:20240703T103000
DTSTAMP:20260419T075823
CREATED:20231205T003455Z
LAST-MODIFIED:20240627T024811Z
UID:10004133-1720002600-1720002600@indianolaathletics.com
SUMMARY:Baseball: Varsity  vs. Des Moines East (Away)
DESCRIPTION:Type: Double Header  Opponent: Des Moines East  Bus: 2:00PM  Dismissal:   Est.return:
URL:https://indianolaathletics.com/event/baseball-varsity-vs-des-moines-east-away-2/
LOCATION:Des Moines East High School
CATEGORIES:Baseball
END:VEVENT
BEGIN:VEVENT
DTSTART;TZID=America/Chicago:20240522T140000
DTEND;TZID=America/Chicago:20240522T140000
DTSTAMP:20260419T075823
CREATED:20231205T165007Z
LAST-MODIFIED:20240522T020114Z
UID:10004248-1716386400-1716386400@indianolaathletics.com
SUMMARY:Softball: Varsity  vs. Des Moines East (Away)
DESCRIPTION:Type: Game  Opponent: Des Moines East  Bus: 3:30PM  Dismissal:   Est.return:
URL:https://indianolaathletics.com/event/softball-varsity-vs-des-moines-east-away-2/
LOCATION:Des Moines East High School
CATEGORIES:Softball
END:VEVENT
BEGIN:VEVENT
DTSTART;TZID=America/Chicago:20240522T120000
DTEND;TZID=America/Chicago:20240522T120000
DTSTAMP:20260419T075823
CREATED:20231206T164943Z
LAST-MODIFIED:20240522T020114Z
UID:10004294-1716379200-1716379200@indianolaathletics.com
SUMMARY:Softball: JV 1  vs. Des Moines East (Away)
DESCRIPTION:Type: Game  Opponent: Des Moines East  Bus: 3:30PM  Dismissal:   Est.return:
URL:https://indianolaathletics.com/event/softball-jv-1-vs-des-moines-east-away-2/
LOCATION:Des Moines East High School
CATEGORIES:Softball
END:VEVENT
BEGIN:VEVENT
DTSTART;TZID=America/Chicago:20240112T113000
DTEND;TZID=America/Chicago:20240112T113000
DTSTAMP:20260419T075823
CREATED:20231020T181953Z
LAST-MODIFIED:20231113T194936Z
UID:10004092-1705059000-1705059000@indianolaathletics.com
SUMMARY:Swimming: Boys JV/Varsity  vs. Des Moines East (Away)
DESCRIPTION:Type: Dual  Opponent: Des Moines East  Bus: 3:45PM  Dismissal:   Est.return:
URL:https://indianolaathletics.com/event/swimming-boys-jv-varsity-vs-des-moines-east-away/
LOCATION:Des Moines East High School
CATEGORIES:Boys Swimming
END:VEVENT
BEGIN:VEVENT
DTSTART;TZID=America/Chicago:20240109T113000
DTEND;TZID=America/Chicago:20240109T113000
DTSTAMP:20260419T075823
CREATED:20231114T194937Z
LAST-MODIFIED:20240109T214043Z
UID:10004216-1704799800-1704799800@indianolaathletics.com
SUMMARY:Swimming: Boys JV/Varsity  (Postponed) vs. Des Moines East (Away)
DESCRIPTION:Type: Dual  Opponent: Des Moines East
URL:https://indianolaathletics.com/event/swimming-boys-jv-varsity-vs-des-moines-east-away-2/
LOCATION:Des Moines East High School
CATEGORIES:Boys Swimming
END:VEVENT
END:VCALENDAR