BEGIN:VCALENDAR
VERSION:2.0
PRODID:-//Indianola Athletic Booster Club - ECPv6.15.20//NONSGML v1.0//EN
CALSCALE:GREGORIAN
METHOD:PUBLISH
X-WR-CALNAME:Indianola Athletic Booster Club
X-ORIGINAL-URL:https://indianolaathletics.com
X-WR-CALDESC:Events for Indianola Athletic Booster Club
REFRESH-INTERVAL;VALUE=DURATION:PT1H
X-Robots-Tag:noindex
X-PUBLISHED-TTL:PT1H
BEGIN:VTIMEZONE
TZID:America/Chicago
BEGIN:DAYLIGHT
TZOFFSETFROM:-0600
TZOFFSETTO:-0500
TZNAME:CDT
DTSTART:20230312T080000
END:DAYLIGHT
BEGIN:STANDARD
TZOFFSETFROM:-0500
TZOFFSETTO:-0600
TZNAME:CST
DTSTART:20231105T070000
END:STANDARD
BEGIN:DAYLIGHT
TZOFFSETFROM:-0600
TZOFFSETTO:-0500
TZNAME:CDT
DTSTART:20240310T080000
END:DAYLIGHT
BEGIN:STANDARD
TZOFFSETFROM:-0500
TZOFFSETTO:-0600
TZNAME:CST
DTSTART:20241103T070000
END:STANDARD
BEGIN:DAYLIGHT
TZOFFSETFROM:-0600
TZOFFSETTO:-0500
TZNAME:CDT
DTSTART:20250309T080000
END:DAYLIGHT
BEGIN:STANDARD
TZOFFSETFROM:-0500
TZOFFSETTO:-0600
TZNAME:CST
DTSTART:20251102T070000
END:STANDARD
BEGIN:DAYLIGHT
TZOFFSETFROM:-0600
TZOFFSETTO:-0500
TZNAME:CDT
DTSTART:20260308T080000
END:DAYLIGHT
BEGIN:STANDARD
TZOFFSETFROM:-0500
TZOFFSETTO:-0600
TZNAME:CST
DTSTART:20261101T070000
END:STANDARD
END:VTIMEZONE
BEGIN:VEVENT
DTSTART;TZID=America/Chicago:20250628T153000
DTEND;TZID=America/Chicago:20250628T153000
DTSTAMP:20260424T213855
CREATED:20250305T210319Z
LAST-MODIFIED:20250611T214816Z
UID:10005192-1751124600-1751124600@indianolaathletics.com
SUMMARY:Baseball: Boys Varsity  vs.  Waterloo West">Multiple Schools (Away)
DESCRIPTION:Type: Double Header  Opponent:  Waterloo West”>Multiple Schools  Bus: 1:45PM  Dismissal:   Est.return:
URL:https://indianolaathletics.com/event/baseball-boys-varsity-vs-waterloo-westmultiple-schools-away-2/
LOCATION:Dowling Catholic High School
CATEGORIES:Baseball
END:VEVENT
BEGIN:VEVENT
DTSTART;TZID=America/Chicago:20250628T130000
DTEND;TZID=America/Chicago:20250628T130000
DTSTAMP:20260424T213855
CREATED:20250122T161651Z
LAST-MODIFIED:20250226T210336Z
UID:10004997-1751115600-1751115600@indianolaathletics.com
SUMMARY:Baseball: Boys Varsity  vs.  Waterloo West">Multiple Schools (Away)
DESCRIPTION:Type: Double Header  Opponent:  Waterloo West”>Multiple Schools
URL:https://indianolaathletics.com/event/baseball-boys-varsity-vs-waterloo-westmultiple-schools-away/
LOCATION:Dowling Catholic High School
CATEGORIES:Baseball
END:VEVENT
BEGIN:VEVENT
DTSTART;TZID=America/Chicago:20250603T170000
DTEND;TZID=America/Chicago:20250603T170000
DTSTAMP:20260424T213855
CREATED:20250122T161643Z
LAST-MODIFIED:20250528T214814Z
UID:10004956-1748970000-1748970000@indianolaathletics.com
SUMMARY:Baseball: JV 1  vs. Dowling Catholic (Away)
DESCRIPTION:Type: Double Header  Opponent: Dowling Catholic  Bus: 3:15PM  Dismissal:   Est.return:
URL:https://indianolaathletics.com/event/baseball-jv-1-vs-dowling-catholic-away-2/
LOCATION:Dowling Catholic High School
CATEGORIES:Baseball
END:VEVENT
BEGIN:VEVENT
DTSTART;TZID=America/Chicago:20250519T190000
DTEND;TZID=America/Chicago:20250519T190000
DTSTAMP:20260424T213855
CREATED:20250122T161639Z
LAST-MODIFIED:20250514T213310Z
UID:10004935-1747681200-1747681200@indianolaathletics.com
SUMMARY:Baseball: JV 1  vs. Dowling Catholic (Away)
DESCRIPTION:Type: Game  Opponent: Dowling Catholic  Bus: 5:00PM  Dismissal:   Est.return:
URL:https://indianolaathletics.com/event/baseball-jv-1-vs-dowling-catholic-away/
LOCATION:Dowling Catholic High School
CATEGORIES:Baseball
END:VEVENT
BEGIN:VEVENT
DTSTART;TZID=America/Chicago:20250519T170000
DTEND;TZID=America/Chicago:20250519T170000
DTSTAMP:20260424T213855
CREATED:20250122T161639Z
LAST-MODIFIED:20250514T213310Z
UID:10004933-1747674000-1747674000@indianolaathletics.com
SUMMARY:Baseball: JV 2  vs. Dowling Catholic (Away)
DESCRIPTION:Type: Game  Opponent: Dowling Catholic  Bus: 3:00PM  Dismissal:   Est.return:
URL:https://indianolaathletics.com/event/baseball-jv-2-vs-dowling-catholic-away/
LOCATION:Dowling Catholic High School
CATEGORIES:Baseball
END:VEVENT
BEGIN:VEVENT
DTSTART;TZID=America/Chicago:20240622T083000
DTEND;TZID=America/Chicago:20240622T083000
DTSTAMP:20260424T213855
CREATED:20240123T015551Z
LAST-MODIFIED:20240622T021834Z
UID:10004423-1719045000-1719045000@indianolaathletics.com
SUMMARY:Baseball: Varsity  vs.  Sioux City West">Multiple Schools (Away)
DESCRIPTION:Type: Triangular  Opponent:  Sioux City West”>Multiple Schools  Bus: 11:45AM  Dismissal:   Est.return:   Comments: 1:30 PM vs Sioux City West | 4:00 PM vs Dowling
URL:https://indianolaathletics.com/event/baseball-varsity-vs-sioux-city-westmultiple-schools-away/
LOCATION:Dowling Catholic High School
CATEGORIES:Baseball
END:VEVENT
BEGIN:VEVENT
DTSTART;TZID=America/Chicago:20240429T143000
DTEND;TZID=America/Chicago:20240429T143000
DTSTAMP:20260424T213855
CREATED:20231102T151949Z
LAST-MODIFIED:20240430T000131Z
UID:10004107-1714401000-1714401000@indianolaathletics.com
SUMMARY:Soccer: Boys Varsity  vs. Dowling Catholic (Away)
DESCRIPTION:Type: Match  Opponent: Dowling Catholic  Bus: 4:15PM  Dismissal:   Est.return:
URL:https://indianolaathletics.com/event/soccer-boys-varsity-vs-dowling-catholic-away/
LOCATION:Dowling Catholic High School
CATEGORIES:Boys Soccer
END:VEVENT
BEGIN:VEVENT
DTSTART;TZID=America/Chicago:20240429T130000
DTEND;TZID=America/Chicago:20240429T130000
DTSTAMP:20260424T213855
CREATED:20231102T151948Z
LAST-MODIFIED:20240429T000115Z
UID:10004104-1714395600-1714395600@indianolaathletics.com
SUMMARY:Soccer: Boys JV  vs. Dowling Catholic (Away)
DESCRIPTION:Type: Match  Opponent: Dowling Catholic  Bus: 4:15PM  Dismissal:   Est.return:
URL:https://indianolaathletics.com/event/soccer-boys-jv-vs-dowling-catholic-away/
LOCATION:Dowling Catholic High School
CATEGORIES:Boys Soccer
END:VEVENT
BEGIN:VEVENT
DTSTART;TZID=America/Chicago:20240122T141500
DTEND;TZID=America/Chicago:20240122T141500
DTSTAMP:20260424T213855
CREATED:20230919T042029Z
LAST-MODIFIED:20240123T002551Z
UID:10004062-1705932900-1705932900@indianolaathletics.com
SUMMARY:Basketball: Boys 9th Grade  vs. Dowling Catholic (Away)
DESCRIPTION:Type: Game  Opponent: Dowling Catholic  Bus: 5:30PM  Dismissal:   Est.return:   Comments: 9B
URL:https://indianolaathletics.com/event/basketball-boys-9th-grade-vs-dowling-catholic-away/
LOCATION:Dowling Catholic High School
CATEGORIES:Boys Basketball
END:VEVENT
END:VCALENDAR