BEGIN:VCALENDAR
VERSION:2.0
PRODID:-//Indianola Athletic Booster Club - ECPv6.15.20//NONSGML v1.0//EN
CALSCALE:GREGORIAN
METHOD:PUBLISH
X-ORIGINAL-URL:https://indianolaathletics.com
X-WR-CALDESC:Events for Indianola Athletic Booster Club
REFRESH-INTERVAL;VALUE=DURATION:PT1H
X-Robots-Tag:noindex
X-PUBLISHED-TTL:PT1H
BEGIN:VTIMEZONE
TZID:America/Chicago
BEGIN:DAYLIGHT
TZOFFSETFROM:-0600
TZOFFSETTO:-0500
TZNAME:CDT
DTSTART:20230312T080000
END:DAYLIGHT
BEGIN:STANDARD
TZOFFSETFROM:-0500
TZOFFSETTO:-0600
TZNAME:CST
DTSTART:20231105T070000
END:STANDARD
BEGIN:DAYLIGHT
TZOFFSETFROM:-0600
TZOFFSETTO:-0500
TZNAME:CDT
DTSTART:20240310T080000
END:DAYLIGHT
BEGIN:STANDARD
TZOFFSETFROM:-0500
TZOFFSETTO:-0600
TZNAME:CST
DTSTART:20241103T070000
END:STANDARD
BEGIN:DAYLIGHT
TZOFFSETFROM:-0600
TZOFFSETTO:-0500
TZNAME:CDT
DTSTART:20250309T080000
END:DAYLIGHT
BEGIN:STANDARD
TZOFFSETFROM:-0500
TZOFFSETTO:-0600
TZNAME:CST
DTSTART:20251102T070000
END:STANDARD
END:VTIMEZONE
BEGIN:VEVENT
DTSTART;TZID=America/Chicago:20240212T120000
DTEND;TZID=America/Chicago:20240212T120000
DTSTAMP:20260420T193113
CREATED:20231209T050453Z
LAST-MODIFIED:20240212T004059Z
UID:10004201-1707739200-1707739200@indianolaathletics.com
SUMMARY:Basketball: Boys 9th Grade  (Date Changed to 02-05-24) vs. Gilbert (Away)
DESCRIPTION:Type: 9th B  Opponent: Gilbert
URL:https://indianolaathletics.com/event/basketball-boys-9th-grade-date-changed-to-02-05-24-vs-gilbert-away/
LOCATION:Gilbert Intermediate School
CATEGORIES:Boys Basketball
END:VEVENT
BEGIN:VEVENT
DTSTART;TZID=America/Chicago:20240212T120000
DTEND;TZID=America/Chicago:20240212T120000
DTSTAMP:20260420T193113
CREATED:20231005T223451Z
LAST-MODIFIED:20231208T050458Z
UID:10004155-1707739200-1707739200@indianolaathletics.com
SUMMARY:Basketball: Boys 9th Grade  vs. Gilbert (Away)
DESCRIPTION:Type: 9th B  Opponent: Gilbert  Bus: 4:15PM  Dismissal:   Est.return:
URL:https://indianolaathletics.com/event/basketball-boys-9th-grade-vs-gilbert-away-2/
LOCATION:Gilbert Intermediate School
CATEGORIES:Boys Basketball
END:VEVENT
BEGIN:VEVENT
DTSTART;TZID=America/Chicago:20240205T120000
DTEND;TZID=America/Chicago:20240205T120000
DTSTAMP:20260420T193113
CREATED:20231209T050451Z
LAST-MODIFIED:20240205T003637Z
UID:10004198-1707134400-1707134400@indianolaathletics.com
SUMMARY:Basketball: Boys 9th Grade  (Cancelled) vs. Gilbert (Away)
DESCRIPTION:Type: 9th B  Opponent: Gilbert
URL:https://indianolaathletics.com/event/basketball-boys-9th-grade-date-changed-from-02-12-24-vs-gilbert-away/
LOCATION:Gilbert Intermediate School
CATEGORIES:Boys Basketball
END:VEVENT
END:VCALENDAR