BEGIN:VCALENDAR
VERSION:2.0
PRODID:-//Indianola Athletic Booster Club - ECPv6.15.20//NONSGML v1.0//EN
CALSCALE:GREGORIAN
METHOD:PUBLISH
X-WR-CALNAME:Indianola Athletic Booster Club
X-ORIGINAL-URL:https://indianolaathletics.com
X-WR-CALDESC:Events for Indianola Athletic Booster Club
REFRESH-INTERVAL;VALUE=DURATION:PT1H
X-Robots-Tag:noindex
X-PUBLISHED-TTL:PT1H
BEGIN:VTIMEZONE
TZID:America/Chicago
BEGIN:DAYLIGHT
TZOFFSETFROM:-0600
TZOFFSETTO:-0500
TZNAME:CDT
DTSTART:20230312T080000
END:DAYLIGHT
BEGIN:STANDARD
TZOFFSETFROM:-0500
TZOFFSETTO:-0600
TZNAME:CST
DTSTART:20231105T070000
END:STANDARD
BEGIN:DAYLIGHT
TZOFFSETFROM:-0600
TZOFFSETTO:-0500
TZNAME:CDT
DTSTART:20240310T080000
END:DAYLIGHT
BEGIN:STANDARD
TZOFFSETFROM:-0500
TZOFFSETTO:-0600
TZNAME:CST
DTSTART:20241103T070000
END:STANDARD
BEGIN:DAYLIGHT
TZOFFSETFROM:-0600
TZOFFSETTO:-0500
TZNAME:CDT
DTSTART:20250309T080000
END:DAYLIGHT
BEGIN:STANDARD
TZOFFSETFROM:-0500
TZOFFSETTO:-0600
TZNAME:CST
DTSTART:20251102T070000
END:STANDARD
BEGIN:DAYLIGHT
TZOFFSETFROM:-0600
TZOFFSETTO:-0500
TZNAME:CDT
DTSTART:20260308T080000
END:DAYLIGHT
BEGIN:STANDARD
TZOFFSETFROM:-0500
TZOFFSETTO:-0600
TZNAME:CST
DTSTART:20261101T070000
END:STANDARD
END:VTIMEZONE
BEGIN:VEVENT
DTSTART;TZID=America/Chicago:20250607T084500
DTEND;TZID=America/Chicago:20250607T084500
DTSTAMP:20260422T190624
CREATED:20250122T161654Z
LAST-MODIFIED:20250604T183319Z
UID:10005013-1749285900-1749285900@indianolaathletics.com
SUMMARY:Softball: Girls Varsity  vs.  Multiple Schools">Multiple Schools (Away)
DESCRIPTION:Type: Invitational  Opponent:  Multiple Schools”>Multiple Schools  Bus: 7:15AM  Dismissal:   Est.return:
URL:https://indianolaathletics.com/event/softball-girls-varsity-vs-multiple-schoolsmultiple-schools-away/
LOCATION:Greater Des Moines Softball Complex
CATEGORIES:Softball
END:VEVENT
BEGIN:VEVENT
DTSTART;TZID=America/Chicago:20240601T034500
DTEND;TZID=America/Chicago:20240601T034500
DTSTAMP:20260422T190624
CREATED:20231205T165008Z
LAST-MODIFIED:20240601T021616Z
UID:10004257-1717213500-1717213500@indianolaathletics.com
SUMMARY:Softball: Varsity  vs.  Boone Carlisle Cedar Rapids Jefferson Dallas Center-Grimes HS Des Moines Lincoln Dowling Catholic Fort Dodge Johnston Kennedy Pleasant Valley Southeast Polk Urbandale Waukee Northwest Winterset">Multiple Schools (Away)
DESCRIPTION:Type: Invitational  Opponent:  Boone Carlisle Cedar Rapids Jefferson Dallas Center-Grimes HS Des Moines Lincoln Dowling Catholic Fort Dodge Johnston Kennedy Pleasant Valley Southeast Polk Urbandale Waukee Northwest Winterset”>Multiple Schools  Bus: 7:15AM  Dismissal:   Est.return:   Comments: 8:45 AM vs Waukee | Field 4 10:30 AM vs Johnston | Field 4 2:00 PM vs Winterset | Field 4
URL:https://indianolaathletics.com/event/softball-varsity-vs-boone-carlisle-cedar-rapids-jefferson-dallas-center-grimes-hs-dowling-catholic-fort-dodge-johnston-kennedy-des-moines-lincoln-pleasant-valley-southeast-polk-urbandale-waukee-no/
LOCATION:Greater Des Moines Softball Complex
CATEGORIES:Softball
END:VEVENT
END:VCALENDAR