BEGIN:VCALENDAR
VERSION:2.0
PRODID:-//Indianola Athletic Booster Club - ECPv6.15.20//NONSGML v1.0//EN
CALSCALE:GREGORIAN
METHOD:PUBLISH
X-WR-CALNAME:Indianola Athletic Booster Club
X-ORIGINAL-URL:https://indianolaathletics.com
X-WR-CALDESC:Events for Indianola Athletic Booster Club
REFRESH-INTERVAL;VALUE=DURATION:PT1H
X-Robots-Tag:noindex
X-PUBLISHED-TTL:PT1H
BEGIN:VTIMEZONE
TZID:America/Chicago
BEGIN:DAYLIGHT
TZOFFSETFROM:-0600
TZOFFSETTO:-0500
TZNAME:CDT
DTSTART:20230312T080000
END:DAYLIGHT
BEGIN:STANDARD
TZOFFSETFROM:-0500
TZOFFSETTO:-0600
TZNAME:CST
DTSTART:20231105T070000
END:STANDARD
BEGIN:DAYLIGHT
TZOFFSETFROM:-0600
TZOFFSETTO:-0500
TZNAME:CDT
DTSTART:20240310T080000
END:DAYLIGHT
BEGIN:STANDARD
TZOFFSETFROM:-0500
TZOFFSETTO:-0600
TZNAME:CST
DTSTART:20241103T070000
END:STANDARD
BEGIN:DAYLIGHT
TZOFFSETFROM:-0600
TZOFFSETTO:-0500
TZNAME:CDT
DTSTART:20250309T080000
END:DAYLIGHT
BEGIN:STANDARD
TZOFFSETFROM:-0500
TZOFFSETTO:-0600
TZNAME:CST
DTSTART:20251102T070000
END:STANDARD
END:VTIMEZONE
BEGIN:VEVENT
DTSTART;TZID=America/Chicago:20240701T133000
DTEND;TZID=America/Chicago:20240701T133000
DTSTAMP:20260420T025758
CREATED:20231205T165011Z
LAST-MODIFIED:20240701T031811Z
UID:10004276-1719840600-1719840600@indianolaathletics.com
SUMMARY:Softball: Varsity  vs. Ottumwa (Away)
DESCRIPTION:Type: Game  Opponent: Ottumwa  Bus: 1:45PM  Dismissal:   Est.return:
URL:https://indianolaathletics.com/event/softball-varsity-vs-ottumwa-away-3/
LOCATION:Huston Field – Wildwood School
CATEGORIES:Softball
END:VEVENT
BEGIN:VEVENT
DTSTART;TZID=America/Chicago:20240701T120000
DTEND;TZID=America/Chicago:20240701T120000
DTSTAMP:20260420T025758
CREATED:20231206T164949Z
LAST-MODIFIED:20240701T031810Z
UID:10004308-1719835200-1719835200@indianolaathletics.com
SUMMARY:Softball: JV 1  vs. Ottumwa (Away)
DESCRIPTION:Type: Game  Opponent: Ottumwa  Bus: 1:45PM  Dismissal:   Est.return:
URL:https://indianolaathletics.com/event/softball-jv-1-vs-ottumwa-away-3/
LOCATION:Huston Field – Wildwood School
CATEGORIES:Softball
END:VEVENT
END:VCALENDAR