BEGIN:VCALENDAR
VERSION:2.0
PRODID:-//Indianola Athletic Booster Club - ECPv6.15.20//NONSGML v1.0//EN
CALSCALE:GREGORIAN
METHOD:PUBLISH
X-ORIGINAL-URL:https://indianolaathletics.com
X-WR-CALDESC:Events for Indianola Athletic Booster Club
REFRESH-INTERVAL;VALUE=DURATION:PT1H
X-Robots-Tag:noindex
X-PUBLISHED-TTL:PT1H
BEGIN:VTIMEZONE
TZID:America/Chicago
BEGIN:DAYLIGHT
TZOFFSETFROM:-0600
TZOFFSETTO:-0500
TZNAME:CDT
DTSTART:20230312T080000
END:DAYLIGHT
BEGIN:STANDARD
TZOFFSETFROM:-0500
TZOFFSETTO:-0600
TZNAME:CST
DTSTART:20231105T070000
END:STANDARD
BEGIN:DAYLIGHT
TZOFFSETFROM:-0600
TZOFFSETTO:-0500
TZNAME:CDT
DTSTART:20240310T080000
END:DAYLIGHT
BEGIN:STANDARD
TZOFFSETFROM:-0500
TZOFFSETTO:-0600
TZNAME:CST
DTSTART:20241103T070000
END:STANDARD
BEGIN:DAYLIGHT
TZOFFSETFROM:-0600
TZOFFSETTO:-0500
TZNAME:CDT
DTSTART:20250309T080000
END:DAYLIGHT
BEGIN:STANDARD
TZOFFSETFROM:-0500
TZOFFSETTO:-0600
TZNAME:CST
DTSTART:20251102T070000
END:STANDARD
BEGIN:DAYLIGHT
TZOFFSETFROM:-0600
TZOFFSETTO:-0500
TZNAME:CDT
DTSTART:20260308T080000
END:DAYLIGHT
BEGIN:STANDARD
TZOFFSETFROM:-0500
TZOFFSETTO:-0600
TZNAME:CST
DTSTART:20261101T070000
END:STANDARD
END:VTIMEZONE
BEGIN:VEVENT
DTSTART;TZID=America/Chicago:20250407T150000
DTEND;TZID=America/Chicago:20250407T150000
DTSTAMP:20260420T094645
CREATED:20250306T151812Z
LAST-MODIFIED:20250403T153325Z
UID:10005202-1744038000-1744038000@indianolaathletics.com
SUMMARY:Golf: Girls Varsity  vs. Des Moines Roosevelt (Home)
DESCRIPTION:Type: Meet  Opponent: Des Moines Roosevelt
URL:https://indianolaathletics.com/event/golf-girls-varsity-vs-des-moines-roosevelt-home/
LOCATION:Indianola CC
CATEGORIES:Girls Golf
END:VEVENT
BEGIN:VEVENT
DTSTART;TZID=America/Chicago:20240923T053000
DTEND;TZID=America/Chicago:20240923T053000
DTSTAMP:20260420T094645
CREATED:20240724T013308Z
LAST-MODIFIED:20240822T024824Z
UID:10004854-1727069400-1727069400@indianolaathletics.com
SUMMARY:Golf: Boys Varsity  vs. Council Bluffs Abraham LincolnDallas Center-Grimes HSFort DodgeOttumwaSioux City EastSoutheast Polk'>Multiple Schools (Home)
DESCRIPTION:Type: Invitational  Opponent: Council Bluffs Abraham LincolnDallas Center-Grimes HSFort DodgeOttumwaSioux City EastSoutheast Polk’>Multiple Schools
URL:https://indianolaathletics.com/event/golf-boys-varsity-vs-council-bluffs-abraham-lincolndallas-center-grimes-hsfort-dodgeottumwasioux-city-eastsoutheast-polkmultiple-schools-home-3/
LOCATION:Indianola CC
CATEGORIES:Boys Golf
END:VEVENT
BEGIN:VEVENT
DTSTART;TZID=America/Chicago:20240506T053000
DTEND;TZID=America/Chicago:20240506T053000
DTSTAMP:20260420T094645
CREATED:20231004T021940Z
LAST-MODIFIED:20240501T104618Z
UID:10004094-1714973400-1714973400@indianolaathletics.com
SUMMARY:Golf: Girls Varsity  vs. NewtonNorwalkOskaloosaPella Community'>Multiple Schools (Home)
DESCRIPTION:Type: Conference Meet  Opponent: NewtonNorwalkOskaloosaPella Community’>Multiple Schools
URL:https://indianolaathletics.com/event/golf-girls-varsity-vs-newtonnorwalkoskaloosapella-communitymultiple-schools-home/
LOCATION:Indianola CC
CATEGORIES:Girls Golf
END:VEVENT
BEGIN:VEVENT
DTSTART;TZID=America/Chicago:20240506T050000
DTEND;TZID=America/Chicago:20240506T050000
DTSTAMP:20260420T094645
CREATED:20240502T110124Z
LAST-MODIFIED:20240506T112133Z
UID:10004686-1714971600-1714971600@indianolaathletics.com
SUMMARY:Golf: Girls Varsity  vs. NewtonNorwalkOskaloosaPella Community'>Multiple Schools (Home)
DESCRIPTION:Type: Conference Meet  Opponent: NewtonNorwalkOskaloosaPella Community’>Multiple Schools
URL:https://indianolaathletics.com/event/golf-girls-varsity-vs-newtonnorwalkoskaloosapella-communitymultiple-schools-home-2/
LOCATION:Indianola CC
CATEGORIES:Girls Golf
END:VEVENT
END:VCALENDAR