BEGIN:VCALENDAR
VERSION:2.0
PRODID:-//Indianola Athletic Booster Club - ECPv6.15.20//NONSGML v1.0//EN
CALSCALE:GREGORIAN
METHOD:PUBLISH
X-ORIGINAL-URL:https://indianolaathletics.com
X-WR-CALDESC:Events for Indianola Athletic Booster Club
REFRESH-INTERVAL;VALUE=DURATION:PT1H
X-Robots-Tag:noindex
X-PUBLISHED-TTL:PT1H
BEGIN:VTIMEZONE
TZID:America/Chicago
BEGIN:DAYLIGHT
TZOFFSETFROM:-0600
TZOFFSETTO:-0500
TZNAME:CDT
DTSTART:20220313T080000
END:DAYLIGHT
BEGIN:STANDARD
TZOFFSETFROM:-0500
TZOFFSETTO:-0600
TZNAME:CST
DTSTART:20221106T070000
END:STANDARD
BEGIN:DAYLIGHT
TZOFFSETFROM:-0600
TZOFFSETTO:-0500
TZNAME:CDT
DTSTART:20230312T080000
END:DAYLIGHT
BEGIN:STANDARD
TZOFFSETFROM:-0500
TZOFFSETTO:-0600
TZNAME:CST
DTSTART:20231105T070000
END:STANDARD
BEGIN:DAYLIGHT
TZOFFSETFROM:-0600
TZOFFSETTO:-0500
TZNAME:CDT
DTSTART:20240310T080000
END:DAYLIGHT
BEGIN:STANDARD
TZOFFSETFROM:-0500
TZOFFSETTO:-0600
TZNAME:CST
DTSTART:20241103T070000
END:STANDARD
BEGIN:DAYLIGHT
TZOFFSETFROM:-0600
TZOFFSETTO:-0500
TZNAME:CDT
DTSTART:20250309T080000
END:DAYLIGHT
BEGIN:STANDARD
TZOFFSETFROM:-0500
TZOFFSETTO:-0600
TZNAME:CST
DTSTART:20251102T070000
END:STANDARD
END:VTIMEZONE
BEGIN:VEVENT
DTSTART;TZID=America/Chicago:20241203T114500
DTEND;TZID=America/Chicago:20241203T114500
DTSTAMP:20260421T000022
CREATED:20240502T021706Z
LAST-MODIFIED:20240822T014842Z
UID:10004622-1733226300-1733226300@indianolaathletics.com
SUMMARY:Basketball: Boys 9th Grade  vs. Waukee (Home)
DESCRIPTION:Type: Game  Opponent: Waukee
URL:https://indianolaathletics.com/event/basketball-boys-9th-grade-vs-waukee-home-2/
LOCATION:Indianola High School  East Gym
CATEGORIES:Boys Basketball
END:VEVENT
BEGIN:VEVENT
DTSTART;TZID=America/Chicago:20241203T103000
DTEND;TZID=America/Chicago:20241203T103000
DTSTAMP:20260421T000022
CREATED:20240502T021705Z
LAST-MODIFIED:20240822T014842Z
UID:10004621-1733221800-1733221800@indianolaathletics.com
SUMMARY:Basketball: Boys 10th Grade  vs. Waukee (Home)
DESCRIPTION:Type: Game  Opponent: Waukee
URL:https://indianolaathletics.com/event/basketball-boys-10th-grade-vs-waukee-home-2/
LOCATION:Indianola High School  East Gym
CATEGORIES:Boys Basketball
END:VEVENT
BEGIN:VEVENT
DTSTART;TZID=America/Chicago:20240208T120000
DTEND;TZID=America/Chicago:20240208T120000
DTSTAMP:20260421T000022
CREATED:20230719T045037Z
LAST-MODIFIED:20240208T004047Z
UID:10003883-1707393600-1707393600@indianolaathletics.com
SUMMARY:Basketball: Boys 9th Grade  vs. Pella Christian (Home)
DESCRIPTION:Type: Game  Opponent: Pella Christian
URL:https://indianolaathletics.com/event/basketball-boys-9th-grade-vs-pella-christian-home-3/
LOCATION:Indianola High School  East Gym
CATEGORIES:Boys Basketball
END:VEVENT
BEGIN:VEVENT
DTSTART;TZID=America/Chicago:20240208T104500
DTEND;TZID=America/Chicago:20240208T104500
DTSTAMP:20260421T000022
CREATED:20230719T045036Z
LAST-MODIFIED:20240208T004047Z
UID:10003882-1707389100-1707389100@indianolaathletics.com
SUMMARY:Basketball: Boys 10th Grade  vs. Pella Christian (Home)
DESCRIPTION:Type: Game  Opponent: Pella Christian
URL:https://indianolaathletics.com/event/basketball-boys-10th-grade-vs-pella-christian-home-3/
LOCATION:Indianola High School  East Gym
CATEGORIES:Boys Basketball
END:VEVENT
BEGIN:VEVENT
DTSTART;TZID=America/Chicago:20240206T120000
DTEND;TZID=America/Chicago:20240206T120000
DTSTAMP:20260421T000022
CREATED:20230719T045036Z
LAST-MODIFIED:20240206T004059Z
UID:10003880-1707220800-1707220800@indianolaathletics.com
SUMMARY:Basketball: Boys 9th Grade  vs. Pella Community (Home)
DESCRIPTION:Type: Game  Opponent: Pella Community
URL:https://indianolaathletics.com/event/basketball-boys-9th-grade-vs-pella-community-school-district-home-6/
LOCATION:Indianola High School  East Gym
CATEGORIES:Boys Basketball
END:VEVENT
BEGIN:VEVENT
DTSTART;TZID=America/Chicago:20240206T104500
DTEND;TZID=America/Chicago:20240206T104500
DTSTAMP:20260421T000022
CREATED:20230719T045036Z
LAST-MODIFIED:20240206T004058Z
UID:10003879-1707216300-1707216300@indianolaathletics.com
SUMMARY:Basketball: Boys 10th Grade  vs. Pella Community (Home)
DESCRIPTION:Type: Game  Opponent: Pella Community
URL:https://indianolaathletics.com/event/basketball-boys-10th-grade-vs-pella-community-school-district-home-3/
LOCATION:Indianola High School  East Gym
CATEGORIES:Boys Basketball
END:VEVENT
BEGIN:VEVENT
DTSTART;TZID=America/Chicago:20240126T120000
DTEND;TZID=America/Chicago:20240126T120000
DTSTAMP:20260421T000022
CREATED:20230719T045034Z
LAST-MODIFIED:20240126T002555Z
UID:10003942-1706270400-1706270400@indianolaathletics.com
SUMMARY:Basketball: Boys 9th Grade  vs. Norwalk (Home)
DESCRIPTION:Type: Game  Opponent: Norwalk
URL:https://indianolaathletics.com/event/basketball-boys-9th-grade-vs-norwalk-home-7/
LOCATION:Indianola High School  East Gym
CATEGORIES:Boys Basketball
END:VEVENT
BEGIN:VEVENT
DTSTART;TZID=America/Chicago:20240126T104500
DTEND;TZID=America/Chicago:20240126T104500
DTSTAMP:20260421T000022
CREATED:20230719T045034Z
LAST-MODIFIED:20240126T002555Z
UID:10003941-1706265900-1706265900@indianolaathletics.com
SUMMARY:Basketball: Boys 10th Grade  vs. Norwalk (Home)
DESCRIPTION:Type: Game  Opponent: Norwalk
URL:https://indianolaathletics.com/event/basketball-boys-10th-grade-vs-norwalk-home-3/
LOCATION:Indianola High School  East Gym
CATEGORIES:Boys Basketball
END:VEVENT
BEGIN:VEVENT
DTSTART;TZID=America/Chicago:20240123T120000
DTEND;TZID=America/Chicago:20240123T120000
DTSTAMP:20260421T000022
CREATED:20230719T045033Z
LAST-MODIFIED:20240123T002551Z
UID:10003939-1706011200-1706011200@indianolaathletics.com
SUMMARY:Basketball: Boys 9th Grade  vs. Oskaloosa (Home)
DESCRIPTION:Type: Game  Opponent: Oskaloosa
URL:https://indianolaathletics.com/event/basketball-boys-9th-grade-vs-oskaloosa-home-3/
LOCATION:Indianola High School  East Gym
CATEGORIES:Boys Basketball
END:VEVENT
BEGIN:VEVENT
DTSTART;TZID=America/Chicago:20240123T104500
DTEND;TZID=America/Chicago:20240123T104500
DTSTAMP:20260421T000022
CREATED:20230719T045033Z
LAST-MODIFIED:20240123T002551Z
UID:10003938-1706006700-1706006700@indianolaathletics.com
SUMMARY:Basketball: Boys 10th Grade  vs. Oskaloosa (Home)
DESCRIPTION:Type: Game  Opponent: Oskaloosa
URL:https://indianolaathletics.com/event/basketball-boys-10th-grade-vs-oskaloosa-home-3/
LOCATION:Indianola High School  East Gym
CATEGORIES:Boys Basketball
END:VEVENT
BEGIN:VEVENT
DTSTART;TZID=America/Chicago:20240120T074500
DTEND;TZID=America/Chicago:20240120T074500
DTSTAMP:20260421T000022
CREATED:20230719T045033Z
LAST-MODIFIED:20240120T001051Z
UID:10003936-1705736700-1705736700@indianolaathletics.com
SUMMARY:Basketball: Boys 9th Grade  vs. Clear Creek Amana (Home)
DESCRIPTION:Type: Game  Opponent: Clear Creek Amana
URL:https://indianolaathletics.com/event/basketball-boys-9th-grade-vs-clear-creek-amana-home/
LOCATION:Indianola High School  East Gym
CATEGORIES:Boys Basketball
END:VEVENT
BEGIN:VEVENT
DTSTART;TZID=America/Chicago:20240120T063000
DTEND;TZID=America/Chicago:20240120T063000
DTSTAMP:20260421T000022
CREATED:20230719T045032Z
LAST-MODIFIED:20240120T001050Z
UID:10003935-1705732200-1705732200@indianolaathletics.com
SUMMARY:Basketball: Boys 10th Grade  vs. Clear Creek Amana (Home)
DESCRIPTION:Type: Game  Opponent: Clear Creek Amana
URL:https://indianolaathletics.com/event/basketball-boys-10th-grade-vs-clear-creek-amana-home/
LOCATION:Indianola High School  East Gym
CATEGORIES:Boys Basketball
END:VEVENT
BEGIN:VEVENT
DTSTART;TZID=America/Chicago:20240111T120000
DTEND;TZID=America/Chicago:20240111T120000
DTSTAMP:20260421T000022
CREATED:20231005T223443Z
LAST-MODIFIED:20240110T232549Z
UID:10004154-1704974400-1704974400@indianolaathletics.com
SUMMARY:Basketball: Boys 9th Grade  vs. Gilbert (Home)
DESCRIPTION:Type: 9th B  Opponent: Gilbert
URL:https://indianolaathletics.com/event/basketball-boys-9th-grade-vs-gilbert-home-2/
LOCATION:Indianola High School  East Gym
CATEGORIES:Boys Basketball
END:VEVENT
BEGIN:VEVENT
DTSTART;TZID=America/Chicago:20240111T113000
DTEND;TZID=America/Chicago:20240111T113000
DTSTAMP:20260421T000022
CREATED:20240111T232547Z
LAST-MODIFIED:20240111T232547Z
UID:10004249-1704972600-1704972600@indianolaathletics.com
SUMMARY:Basketball: Boys 9th Grade  (Time Changed) vs. Gilbert (Home)
DESCRIPTION:Type: 9th B  Opponent: Gilbert
URL:https://indianolaathletics.com/event/basketball-boys-9th-grade-time-changed-vs-gilbert-home/
LOCATION:Indianola High School  East Gym
CATEGORIES:Boys Basketball
END:VEVENT
BEGIN:VEVENT
DTSTART;TZID=America/Chicago:20240105T120000
DTEND;TZID=America/Chicago:20240105T120000
DTSTAMP:20260421T000022
CREATED:20230719T045029Z
LAST-MODIFIED:20240105T225559Z
UID:10003921-1704456000-1704456000@indianolaathletics.com
SUMMARY:Basketball: Boys 9th Grade  vs. Dallas Center-Grimes HS (Home)
DESCRIPTION:Type: Game  Opponent: Dallas Center-Grimes HS
URL:https://indianolaathletics.com/event/basketball-boys-9th-grade-vs-dallas-center-grimes-hs-home-6/
LOCATION:Indianola High School  East Gym
CATEGORIES:Boys Basketball
END:VEVENT
BEGIN:VEVENT
DTSTART;TZID=America/Chicago:20240105T104500
DTEND;TZID=America/Chicago:20240105T104500
DTSTAMP:20260421T000022
CREATED:20230719T045029Z
LAST-MODIFIED:20240104T225554Z
UID:10003920-1704451500-1704451500@indianolaathletics.com
SUMMARY:Basketball: Boys 10th Grade  vs. Dallas Center-Grimes HS (Home)
DESCRIPTION:Type: Game  Opponent: Dallas Center-Grimes HS
URL:https://indianolaathletics.com/event/basketball-boys-10th-grade-vs-dallas-center-grimes-hs-home-3/
LOCATION:Indianola High School  East Gym
CATEGORIES:Boys Basketball
END:VEVENT
BEGIN:VEVENT
DTSTART;TZID=America/Chicago:20231218T120000
DTEND;TZID=America/Chicago:20231218T120000
DTSTAMP:20260421T000022
CREATED:20230719T045028Z
LAST-MODIFIED:20231218T055011Z
UID:10003918-1702900800-1702900800@indianolaathletics.com
SUMMARY:Basketball: Boys 9th Grade  vs. Carlisle (Home)
DESCRIPTION:Type: Game  Opponent: Carlisle
URL:https://indianolaathletics.com/event/basketball-boys-9th-grade-vs-carlisle-home-2/
LOCATION:Indianola High School  East Gym
CATEGORIES:Boys Basketball
END:VEVENT
BEGIN:VEVENT
DTSTART;TZID=America/Chicago:20231218T104500
DTEND;TZID=America/Chicago:20231218T104500
DTSTAMP:20260421T000022
CREATED:20230719T045028Z
LAST-MODIFIED:20231218T055011Z
UID:10003917-1702896300-1702896300@indianolaathletics.com
SUMMARY:Basketball: Boys 10th Grade  vs. Carlisle (Home)
DESCRIPTION:Type: Game  Opponent: Carlisle
URL:https://indianolaathletics.com/event/basketball-boys-10th-grade-vs-carlisle-home-2/
LOCATION:Indianola High School  East Gym
CATEGORIES:Boys Basketball
END:VEVENT
BEGIN:VEVENT
DTSTART;TZID=America/Chicago:20231214T120000
DTEND;TZID=America/Chicago:20231214T120000
DTSTAMP:20260421T000022
CREATED:20230719T045027Z
LAST-MODIFIED:20231214T054939Z
UID:10003913-1702555200-1702555200@indianolaathletics.com
SUMMARY:Basketball: Boys 9th Grade  vs. Johnston (Home)
DESCRIPTION:Type: 9th B  Opponent: Johnston  Comments: 2 games
URL:https://indianolaathletics.com/event/basketball-boys-9th-grade-vs-johnston-home-2/
LOCATION:Indianola High School  East Gym
CATEGORIES:Boys Basketball
END:VEVENT
BEGIN:VEVENT
DTSTART;TZID=America/Chicago:20231211T120000
DTEND;TZID=America/Chicago:20231211T120000
DTSTAMP:20260421T000022
CREATED:20230719T045027Z
LAST-MODIFIED:20231211T053509Z
UID:10003911-1702296000-1702296000@indianolaathletics.com
SUMMARY:Basketball: Boys 9th Grade  vs. Ankeny (Home)
DESCRIPTION:Type: Game  Opponent: Ankeny
URL:https://indianolaathletics.com/event/basketball-boys-9th-grade-vs-ankeny-home-2/
LOCATION:Indianola High School  East Gym
CATEGORIES:Boys Basketball
END:VEVENT
BEGIN:VEVENT
DTSTART;TZID=America/Chicago:20231211T104500
DTEND;TZID=America/Chicago:20231211T104500
DTSTAMP:20260421T000022
CREATED:20230719T045025Z
LAST-MODIFIED:20231211T053509Z
UID:10003910-1702291500-1702291500@indianolaathletics.com
SUMMARY:Basketball: Boys 10th Grade  vs. Ankeny (Home)
DESCRIPTION:Type: Game  Opponent: Ankeny
URL:https://indianolaathletics.com/event/basketball-boys-10th-grade-vs-ankeny-home-2/
LOCATION:Indianola High School  East Gym
CATEGORIES:Boys Basketball
END:VEVENT
BEGIN:VEVENT
DTSTART;TZID=America/Chicago:20231201T120000
DTEND;TZID=America/Chicago:20231201T120000
DTSTAMP:20260421T000022
CREATED:20230719T045024Z
LAST-MODIFIED:20231201T041944Z
UID:10003905-1701432000-1701432000@indianolaathletics.com
SUMMARY:Basketball: Boys 9th Grade  vs. Newton (Home)
DESCRIPTION:Type: Game  Opponent: Newton
URL:https://indianolaathletics.com/event/basketball-boys-9th-grade-vs-newton-home-3/
LOCATION:Indianola High School  East Gym
CATEGORIES:Boys Basketball
END:VEVENT
END:VCALENDAR