BEGIN:VCALENDAR
VERSION:2.0
PRODID:-//Indianola Athletic Booster Club - ECPv6.15.20//NONSGML v1.0//EN
CALSCALE:GREGORIAN
METHOD:PUBLISH
X-ORIGINAL-URL:https://indianolaathletics.com
X-WR-CALDESC:Events for Indianola Athletic Booster Club
REFRESH-INTERVAL;VALUE=DURATION:PT1H
X-Robots-Tag:noindex
X-PUBLISHED-TTL:PT1H
BEGIN:VTIMEZONE
TZID:America/Chicago
BEGIN:DAYLIGHT
TZOFFSETFROM:-0600
TZOFFSETTO:-0500
TZNAME:CDT
DTSTART:20230312T080000
END:DAYLIGHT
BEGIN:STANDARD
TZOFFSETFROM:-0500
TZOFFSETTO:-0600
TZNAME:CST
DTSTART:20231105T070000
END:STANDARD
BEGIN:DAYLIGHT
TZOFFSETFROM:-0600
TZOFFSETTO:-0500
TZNAME:CDT
DTSTART:20240310T080000
END:DAYLIGHT
BEGIN:STANDARD
TZOFFSETFROM:-0500
TZOFFSETTO:-0600
TZNAME:CST
DTSTART:20241103T070000
END:STANDARD
BEGIN:DAYLIGHT
TZOFFSETFROM:-0600
TZOFFSETTO:-0500
TZNAME:CDT
DTSTART:20250309T080000
END:DAYLIGHT
BEGIN:STANDARD
TZOFFSETFROM:-0500
TZOFFSETTO:-0600
TZNAME:CST
DTSTART:20251102T070000
END:STANDARD
END:VTIMEZONE
BEGIN:VEVENT
DTSTART;TZID=America/Chicago:20240703T030000
DTEND;TZID=America/Chicago:20240703T080000
DTSTAMP:20260419T193227
CREATED:20240326T231409Z
LAST-MODIFIED:20240702T223314Z
UID:10004537-1719975600-1719993600@indianolaathletics.com
SUMMARY:HS Volleyball  (Home)
DESCRIPTION:Comments: Youth Camp (Grades 2-8)
URL:https://indianolaathletics.com/event/hs-volleyball-home-23/
LOCATION:Indianola High School  – North Gym
CATEGORIES:Volleyball
END:VEVENT
BEGIN:VEVENT
DTSTART;TZID=America/Chicago:20240702T030000
DTEND;TZID=America/Chicago:20240702T080000
DTSTAMP:20260419T193227
CREATED:20240326T231409Z
LAST-MODIFIED:20240701T223313Z
UID:10004534-1719889200-1719907200@indianolaathletics.com
SUMMARY:HS Volleyball  (Home)
DESCRIPTION:Comments: Youth Camp (Grades 2-8)
URL:https://indianolaathletics.com/event/hs-volleyball-home-22/
LOCATION:Indianola High School  – North Gym
CATEGORIES:Volleyball
END:VEVENT
BEGIN:VEVENT
DTSTART;TZID=America/Chicago:20240701T030000
DTEND;TZID=America/Chicago:20240701T080000
DTSTAMP:20260419T193227
CREATED:20240326T231409Z
LAST-MODIFIED:20240630T223312Z
UID:10004533-1719802800-1719820800@indianolaathletics.com
SUMMARY:HS Volleyball  (Home)
DESCRIPTION:Comments: Youth Camp (Grades 2-8)
URL:https://indianolaathletics.com/event/hs-volleyball-home-21/
LOCATION:Indianola High School  – North Gym
CATEGORIES:Volleyball
END:VEVENT
END:VCALENDAR