BEGIN:VCALENDAR
VERSION:2.0
PRODID:-//Indianola Athletic Booster Club - ECPv6.15.20//NONSGML v1.0//EN
CALSCALE:GREGORIAN
METHOD:PUBLISH
X-ORIGINAL-URL:https://indianolaathletics.com
X-WR-CALDESC:Events for Indianola Athletic Booster Club
REFRESH-INTERVAL;VALUE=DURATION:PT1H
X-Robots-Tag:noindex
X-PUBLISHED-TTL:PT1H
BEGIN:VTIMEZONE
TZID:America/Chicago
BEGIN:DAYLIGHT
TZOFFSETFROM:-0600
TZOFFSETTO:-0500
TZNAME:CDT
DTSTART:20230312T080000
END:DAYLIGHT
BEGIN:STANDARD
TZOFFSETFROM:-0500
TZOFFSETTO:-0600
TZNAME:CST
DTSTART:20231105T070000
END:STANDARD
BEGIN:DAYLIGHT
TZOFFSETFROM:-0600
TZOFFSETTO:-0500
TZNAME:CDT
DTSTART:20240310T080000
END:DAYLIGHT
BEGIN:STANDARD
TZOFFSETFROM:-0500
TZOFFSETTO:-0600
TZNAME:CST
DTSTART:20241103T070000
END:STANDARD
BEGIN:DAYLIGHT
TZOFFSETFROM:-0600
TZOFFSETTO:-0500
TZNAME:CDT
DTSTART:20250309T080000
END:DAYLIGHT
BEGIN:STANDARD
TZOFFSETFROM:-0500
TZOFFSETTO:-0600
TZNAME:CST
DTSTART:20251102T070000
END:STANDARD
END:VTIMEZONE
BEGIN:VEVENT
DTSTART;TZID=America/Chicago:20241216T103000
DTEND;TZID=America/Chicago:20241216T123000
DTSTAMP:20260419T080140
CREATED:20240619T000403Z
LAST-MODIFIED:20240822T020331Z
UID:10004806-1734345000-1734352200@indianolaathletics.com
SUMMARY:Basketball: Girls 8th Grade  vs. Pella Middle School (Home)
DESCRIPTION:Type: Game  Opponent: Pella Middle School
URL:https://indianolaathletics.com/event/basketball-girls-8th-grade-vs-pella-middle-school-home-2/
LOCATION:Indianola Middle School Court 2′>more..
CATEGORIES:Girls Basketball
END:VEVENT
BEGIN:VEVENT
DTSTART;TZID=America/Chicago:20241210T100000
DTEND;TZID=America/Chicago:20241210T120000
DTSTAMP:20260419T080140
CREATED:20240619T000403Z
LAST-MODIFIED:20240822T020330Z
UID:10004804-1733824800-1733832000@indianolaathletics.com
SUMMARY:Basketball: Girls 7th Grade  vs. Newton (Home)
DESCRIPTION:Type: Game  Opponent: Newton
URL:https://indianolaathletics.com/event/basketball-girls-7th-grade-vs-newton-home-5/
LOCATION:Indianola Middle School Court 2′>more..
CATEGORIES:Girls Basketball
END:VEVENT
BEGIN:VEVENT
DTSTART;TZID=America/Chicago:20241205T103000
DTEND;TZID=America/Chicago:20241205T123000
DTSTAMP:20260419T080140
CREATED:20240619T000402Z
LAST-MODIFIED:20240822T020329Z
UID:10004802-1733394600-1733401800@indianolaathletics.com
SUMMARY:Basketball: Girls 7th Grade  vs. Dallas Center - Grimes Middle (Home)
DESCRIPTION:Type: Game  Opponent: Dallas Center – Grimes Middle
URL:https://indianolaathletics.com/event/basketball-girls-7th-grade-vs-dallas-center-grimes-middle-home/
LOCATION:Indianola Middle School Court 2′>more..
CATEGORIES:Girls Basketball
END:VEVENT
BEGIN:VEVENT
DTSTART;TZID=America/Chicago:20241203T103000
DTEND;TZID=America/Chicago:20241203T123000
DTSTAMP:20260419T080140
CREATED:20240619T000401Z
LAST-MODIFIED:20240822T020332Z
UID:10004800-1733221800-1733229000@indianolaathletics.com
SUMMARY:Basketball: Girls 7th Grade  vs. Norwalk (Home)
DESCRIPTION:Type: Game  Opponent: Norwalk
URL:https://indianolaathletics.com/event/basketball-girls-7th-grade-vs-norwalk-home-5/
LOCATION:Indianola Middle School Court 2′>more..
CATEGORIES:Girls Basketball
END:VEVENT
BEGIN:VEVENT
DTSTART;TZID=America/Chicago:20241121T103000
DTEND;TZID=America/Chicago:20241121T123000
DTSTAMP:20260419T080140
CREATED:20240619T000400Z
LAST-MODIFIED:20240822T020331Z
UID:10004797-1732185000-1732192200@indianolaathletics.com
SUMMARY:Basketball: Girls 7th Grade  vs. Ames (Home)
DESCRIPTION:Type: Game  Opponent: Ames
URL:https://indianolaathletics.com/event/basketball-girls-7th-grade-vs-ames-home-4/
LOCATION:Indianola Middle School Court 2′>more..
CATEGORIES:Girls Basketball
END:VEVENT
BEGIN:VEVENT
DTSTART;TZID=America/Chicago:20241119T103000
DTEND;TZID=America/Chicago:20241119T123000
DTSTAMP:20260419T080140
CREATED:20240619T000400Z
LAST-MODIFIED:20240822T020331Z
UID:10004796-1732012200-1732019400@indianolaathletics.com
SUMMARY:Basketball: Girls 8th Grade  vs. Southeast Polk (Home)
DESCRIPTION:Type: Game  Opponent: Southeast Polk
URL:https://indianolaathletics.com/event/basketball-girls-8th-grade-vs-southeast-polk-home-2/
LOCATION:Indianola Middle School Court 2′>more..
CATEGORIES:Girls Basketball
END:VEVENT
BEGIN:VEVENT
DTSTART;TZID=America/Chicago:20241112T103000
DTEND;TZID=America/Chicago:20241112T123000
DTSTAMP:20260419T080140
CREATED:20240619T000358Z
LAST-MODIFIED:20240822T020327Z
UID:10004792-1731407400-1731414600@indianolaathletics.com
SUMMARY:Basketball: Girls 8th Grade  vs. Marshalltown (Home)
DESCRIPTION:Type: Game  Opponent: Marshalltown
URL:https://indianolaathletics.com/event/basketball-girls-8th-grade-vs-marshalltown-home-2/
LOCATION:Indianola Middle School Court 2′>more..
CATEGORIES:Girls Basketball
END:VEVENT
BEGIN:VEVENT
DTSTART;TZID=America/Chicago:20241111T103000
DTEND;TZID=America/Chicago:20241111T123000
DTSTAMP:20260419T080140
CREATED:20240619T000358Z
LAST-MODIFIED:20240822T020327Z
UID:10004790-1731321000-1731328200@indianolaathletics.com
SUMMARY:Basketball: Girls 8th Grade  vs. Norwalk (Home)
DESCRIPTION:Type: Game  Opponent: Norwalk
URL:https://indianolaathletics.com/event/basketball-girls-8th-grade-vs-norwalk-home-5/
LOCATION:Indianola Middle School Court 2′>more..
CATEGORIES:Girls Basketball
END:VEVENT
BEGIN:VEVENT
DTSTART;TZID=America/Chicago:20241107T103000
DTEND;TZID=America/Chicago:20241107T123000
DTSTAMP:20260419T080140
CREATED:20240619T000358Z
LAST-MODIFIED:20240822T020327Z
UID:10004788-1730975400-1730982600@indianolaathletics.com
SUMMARY:Basketball: Girls 7th Grade  vs. Pella Middle School (Home)
DESCRIPTION:Type: Game  Opponent: Pella Middle School
URL:https://indianolaathletics.com/event/basketball-girls-7th-grade-vs-pella-middle-school-home/
LOCATION:Indianola Middle School Court 2′>more..
CATEGORIES:Girls Basketball
END:VEVENT
BEGIN:VEVENT
DTSTART;TZID=America/Chicago:20241031T113000
DTEND;TZID=America/Chicago:20241031T133000
DTSTAMP:20260419T080140
CREATED:20240619T000357Z
LAST-MODIFIED:20240822T020326Z
UID:10004607-1730374200-1730381400@indianolaathletics.com
SUMMARY:Basketball: Girls 8th Grade  vs. Valley (Home)
DESCRIPTION:Type: Game  Opponent: Valley
URL:https://indianolaathletics.com/event/basketball-girls-8th-grade-vs-valley-home-3/
LOCATION:Indianola Middle School Court 2′>more..
CATEGORIES:Girls Basketball
END:VEVENT
END:VCALENDAR