BEGIN:VCALENDAR
VERSION:2.0
PRODID:-//Indianola Athletic Booster Club - ECPv6.15.20//NONSGML v1.0//EN
CALSCALE:GREGORIAN
METHOD:PUBLISH
X-WR-CALNAME:Indianola Athletic Booster Club
X-ORIGINAL-URL:https://indianolaathletics.com
X-WR-CALDESC:Events for Indianola Athletic Booster Club
REFRESH-INTERVAL;VALUE=DURATION:PT1H
X-Robots-Tag:noindex
X-PUBLISHED-TTL:PT1H
BEGIN:VTIMEZONE
TZID:America/Chicago
BEGIN:DAYLIGHT
TZOFFSETFROM:-0600
TZOFFSETTO:-0500
TZNAME:CDT
DTSTART:20230312T080000
END:DAYLIGHT
BEGIN:STANDARD
TZOFFSETFROM:-0500
TZOFFSETTO:-0600
TZNAME:CST
DTSTART:20231105T070000
END:STANDARD
BEGIN:DAYLIGHT
TZOFFSETFROM:-0600
TZOFFSETTO:-0500
TZNAME:CDT
DTSTART:20240310T080000
END:DAYLIGHT
BEGIN:STANDARD
TZOFFSETFROM:-0500
TZOFFSETTO:-0600
TZNAME:CST
DTSTART:20241103T070000
END:STANDARD
BEGIN:DAYLIGHT
TZOFFSETFROM:-0600
TZOFFSETTO:-0500
TZNAME:CDT
DTSTART:20250309T080000
END:DAYLIGHT
BEGIN:STANDARD
TZOFFSETFROM:-0500
TZOFFSETTO:-0600
TZNAME:CST
DTSTART:20251102T070000
END:STANDARD
END:VTIMEZONE
BEGIN:VEVENT
DTSTART;TZID=America/Chicago:20240628T143000
DTEND;TZID=America/Chicago:20240628T143000
DTSTAMP:20260420T024407
CREATED:20231205T003455Z
LAST-MODIFIED:20240628T024808Z
UID:10004132-1719585000-1719585000@indianolaathletics.com
SUMMARY:Baseball: Varsity  vs. Newton (Away)
DESCRIPTION:Type: Game  Opponent: Newton  Bus: 3:30PM  Dismissal:   Est.return:
URL:https://indianolaathletics.com/event/baseball-varsity-vs-newton-away-4/
LOCATION:Newton HA Lynn Field
CATEGORIES:Baseball
END:VEVENT
BEGIN:VEVENT
DTSTART;TZID=America/Chicago:20240628T141500
DTEND;TZID=America/Chicago:20240628T141500
DTSTAMP:20260420T024407
CREATED:20231205T165011Z
LAST-MODIFIED:20231219T173448Z
UID:10004275-1719584100-1719584100@indianolaathletics.com
SUMMARY:Softball: Varsity  vs. Newton (Away)
DESCRIPTION:Type: Game  Opponent: Newton
URL:https://indianolaathletics.com/event/softball-varsity-vs-newton-away-3/
LOCATION:Newton HA Lynn Field
CATEGORIES:Softball
END:VEVENT
BEGIN:VEVENT
DTSTART;TZID=America/Chicago:20240628T123000
DTEND;TZID=America/Chicago:20240628T123000
DTSTAMP:20260420T024407
CREATED:20231206T164949Z
LAST-MODIFIED:20231219T173448Z
UID:10004307-1719577800-1719577800@indianolaathletics.com
SUMMARY:Softball: JV 1  vs. Newton (Away)
DESCRIPTION:Type: Game  Opponent: Newton
URL:https://indianolaathletics.com/event/softball-jv-1-vs-newton-away-3/
LOCATION:Newton HA Lynn Field
CATEGORIES:Softball
END:VEVENT
BEGIN:VEVENT
DTSTART;TZID=America/Chicago:20240627T141500
DTEND;TZID=America/Chicago:20240627T141500
DTSTAMP:20260420T024407
CREATED:20231220T173526Z
LAST-MODIFIED:20240626T031810Z
UID:10004322-1719497700-1719497700@indianolaathletics.com
SUMMARY:Softball: Varsity  vs. Newton (Away)
DESCRIPTION:Type: Game  Opponent: Newton  Bus: 3:30PM  Dismissal:   Est.return:
URL:https://indianolaathletics.com/event/softball-varsity-vs-newton-away-4/
LOCATION:Newton HA Lynn Field
CATEGORIES:Softball
END:VEVENT
BEGIN:VEVENT
DTSTART;TZID=America/Chicago:20240627T140000
DTEND;TZID=America/Chicago:20240627T140000
DTSTAMP:20260420T024407
CREATED:20240627T031810Z
LAST-MODIFIED:20240627T031810Z
UID:10004844-1719496800-1719496800@indianolaathletics.com
SUMMARY:Softball: JV 1  (Time Changed) vs. Newton (Away)
DESCRIPTION:Type: Game  Opponent: Newton  Bus: 3:00PM  Dismissal:   Est.return:
URL:https://indianolaathletics.com/event/softball-jv-1-time-changed-vs-newton-away/
LOCATION:Newton HA Lynn Field
CATEGORIES:Softball
END:VEVENT
BEGIN:VEVENT
DTSTART;TZID=America/Chicago:20240627T123000
DTEND;TZID=America/Chicago:20240627T123000
DTSTAMP:20260420T024407
CREATED:20231220T173526Z
LAST-MODIFIED:20240626T031810Z
UID:10004321-1719491400-1719491400@indianolaathletics.com
SUMMARY:Softball: JV 1  vs. Newton (Away)
DESCRIPTION:Type: Game  Opponent: Newton  Bus: 3:30PM  Dismissal:   Est.return:
URL:https://indianolaathletics.com/event/softball-jv-1-vs-newton-away-4/
LOCATION:Newton HA Lynn Field
CATEGORIES:Softball
END:VEVENT
BEGIN:VEVENT
DTSTART;TZID=America/Chicago:20240627T120000
DTEND;TZID=America/Chicago:20240627T120000
DTSTAMP:20260420T024407
CREATED:20240627T031809Z
LAST-MODIFIED:20240627T031809Z
UID:10004843-1719489600-1719489600@indianolaathletics.com
SUMMARY:Softball: Varsity  (Time Changed) vs. Newton (Away)
DESCRIPTION:Type: Game  Opponent: Newton  Bus: 3:00PM  Dismissal:   Est.return:
URL:https://indianolaathletics.com/event/softball-varsity-time-changed-vs-newton-away/
LOCATION:Newton HA Lynn Field
CATEGORIES:Softball
END:VEVENT
BEGIN:VEVENT
DTSTART;TZID=America/Chicago:20240612T050000
DTEND;TZID=America/Chicago:20240612T050000
DTSTAMP:20260420T024407
CREATED:20231206T003440Z
LAST-MODIFIED:20240612T020315Z
UID:10004286-1718168400-1718168400@indianolaathletics.com
SUMMARY:Baseball: JV 2  vs. Newton (Away)
DESCRIPTION:Type: Double Header  Opponent: Newton  Bus: 8:00AM  Dismissal:   Est.return:
URL:https://indianolaathletics.com/event/baseball-jv-2-vs-newton-away-3/
LOCATION:Newton HA Lynn Field
CATEGORIES:Baseball
END:VEVENT
END:VCALENDAR