BEGIN:VCALENDAR
VERSION:2.0
PRODID:-//Indianola Athletic Booster Club - ECPv6.15.20//NONSGML v1.0//EN
CALSCALE:GREGORIAN
METHOD:PUBLISH
X-WR-CALNAME:Indianola Athletic Booster Club
X-ORIGINAL-URL:https://indianolaathletics.com
X-WR-CALDESC:Events for Indianola Athletic Booster Club
REFRESH-INTERVAL;VALUE=DURATION:PT1H
X-Robots-Tag:noindex
X-PUBLISHED-TTL:PT1H
BEGIN:VTIMEZONE
TZID:America/Chicago
BEGIN:DAYLIGHT
TZOFFSETFROM:-0600
TZOFFSETTO:-0500
TZNAME:CDT
DTSTART:20220313T080000
END:DAYLIGHT
BEGIN:STANDARD
TZOFFSETFROM:-0500
TZOFFSETTO:-0600
TZNAME:CST
DTSTART:20221106T070000
END:STANDARD
BEGIN:DAYLIGHT
TZOFFSETFROM:-0600
TZOFFSETTO:-0500
TZNAME:CDT
DTSTART:20230312T080000
END:DAYLIGHT
BEGIN:STANDARD
TZOFFSETFROM:-0500
TZOFFSETTO:-0600
TZNAME:CST
DTSTART:20231105T070000
END:STANDARD
BEGIN:DAYLIGHT
TZOFFSETFROM:-0600
TZOFFSETTO:-0500
TZNAME:CDT
DTSTART:20240310T080000
END:DAYLIGHT
BEGIN:STANDARD
TZOFFSETFROM:-0500
TZOFFSETTO:-0600
TZNAME:CST
DTSTART:20241103T070000
END:STANDARD
BEGIN:DAYLIGHT
TZOFFSETFROM:-0600
TZOFFSETTO:-0500
TZNAME:CDT
DTSTART:20250309T080000
END:DAYLIGHT
BEGIN:STANDARD
TZOFFSETFROM:-0500
TZOFFSETTO:-0600
TZNAME:CST
DTSTART:20251102T070000
END:STANDARD
BEGIN:DAYLIGHT
TZOFFSETFROM:-0600
TZOFFSETTO:-0500
TZNAME:CDT
DTSTART:20260308T080000
END:DAYLIGHT
BEGIN:STANDARD
TZOFFSETFROM:-0500
TZOFFSETTO:-0600
TZNAME:CST
DTSTART:20261101T070000
END:STANDARD
END:VTIMEZONE
BEGIN:VEVENT
DTSTART;TZID=America/Chicago:20251204T183000
DTEND;TZID=America/Chicago:20251204T203000
DTSTAMP:20260419T092245
CREATED:20251013T234820Z
LAST-MODIFIED:20251202T004845Z
UID:10005862-1764873000-1764880200@indianolaathletics.com
SUMMARY:Boys Wrestling: Indianola vs Newton (Varsity)
DESCRIPTION:Varsity Boys Wrestling – Indianola vs Newton
URL:https://indianolaathletics.com/event/boys-wrestling-indianola-vs-newton-varsity/
LOCATION:Newton High School
CATEGORIES:Wrestling
END:VEVENT
BEGIN:VEVENT
DTSTART;TZID=America/Chicago:20250630T150000
DTEND;TZID=America/Chicago:20250630T150000
DTSTAMP:20260419T092245
CREATED:20250628T053322Z
LAST-MODIFIED:20250628T053324Z
UID:10005255-1751295600-1751295600@indianolaathletics.com
SUMMARY:Softball: Girls Varsity  vs. Newton (Away)
DESCRIPTION:Type: Game  Opponent: Newton  Bus: 1:00PM  Dismissal:   Est.return:   Comments: Will resume game in top of 4th inning from Mondays game.
URL:https://indianolaathletics.com/event/softball-girls-varsity-vs-newton-away-2/
LOCATION:Newton High School
CATEGORIES:Softball
END:VEVENT
BEGIN:VEVENT
DTSTART;TZID=America/Chicago:20250623T193000
DTEND;TZID=America/Chicago:20250623T193000
DTSTAMP:20260419T092245
CREATED:20250122T161649Z
LAST-MODIFIED:20250226T210334Z
UID:10004988-1750707000-1750707000@indianolaathletics.com
SUMMARY:Baseball: Boys Varsity  vs. Newton (Away)
DESCRIPTION:Type: Game  Opponent: Newton
URL:https://indianolaathletics.com/event/baseball-boys-varsity-vs-newton-away/
LOCATION:Newton High School
CATEGORIES:Baseball
END:VEVENT
BEGIN:VEVENT
DTSTART;TZID=America/Chicago:20250623T191500
DTEND;TZID=America/Chicago:20250623T191500
DTSTAMP:20260419T092245
CREATED:20250122T161656Z
LAST-MODIFIED:20250621T053315Z
UID:10005022-1750706100-1750706100@indianolaathletics.com
SUMMARY:Softball: Girls Varsity  vs. Newton (Away)
DESCRIPTION:Type: Game  Opponent: Newton  Bus: 3:30PM  Dismissal:   Est.return:
URL:https://indianolaathletics.com/event/softball-girls-varsity-vs-newton-away/
LOCATION:Newton High School
CATEGORIES:Softball
END:VEVENT
BEGIN:VEVENT
DTSTART;TZID=America/Chicago:20250623T190000
DTEND;TZID=America/Chicago:20250623T190000
DTSTAMP:20260419T092245
CREATED:20250305T210318Z
LAST-MODIFIED:20250611T214815Z
UID:10005188-1750705200-1750705200@indianolaathletics.com
SUMMARY:Baseball: Boys Varsity  vs. Newton (Away)
DESCRIPTION:Type: Game  Opponent: Newton  Bus: 3:00PM  Dismissal:   Est.return:
URL:https://indianolaathletics.com/event/baseball-boys-varsity-vs-newton-away-2/
LOCATION:Newton High School
CATEGORIES:Baseball
END:VEVENT
BEGIN:VEVENT
DTSTART;TZID=America/Chicago:20250623T173000
DTEND;TZID=America/Chicago:20250623T173000
DTSTAMP:20260419T092245
CREATED:20250122T161648Z
LAST-MODIFIED:20250226T210334Z
UID:10004987-1750699800-1750699800@indianolaathletics.com
SUMMARY:Baseball: Boys Varsity Reserve  vs. Newton (Away)
DESCRIPTION:Type: Game  Opponent: Newton
URL:https://indianolaathletics.com/event/baseball-boys-varsity-reserve-vs-newton-away/
LOCATION:Newton High School
CATEGORIES:Baseball
END:VEVENT
BEGIN:VEVENT
DTSTART;TZID=America/Chicago:20250623T170000
DTEND;TZID=America/Chicago:20250623T170000
DTSTAMP:20260419T092245
CREATED:20250305T210318Z
LAST-MODIFIED:20250611T214815Z
UID:10005187-1750698000-1750698000@indianolaathletics.com
SUMMARY:Baseball: Boys Varsity Reserve  vs. Newton (Away)
DESCRIPTION:Type: Game  Opponent: Newton  Bus: 3:00PM  Dismissal:   Est.return:
URL:https://indianolaathletics.com/event/baseball-boys-varsity-reserve-vs-newton-away-2/
LOCATION:Newton High School
CATEGORIES:Baseball
END:VEVENT
BEGIN:VEVENT
DTSTART;TZID=America/Chicago:20250606T100000
DTEND;TZID=America/Chicago:20250606T100000
DTSTAMP:20260419T092245
CREATED:20250122T161644Z
LAST-MODIFIED:20250604T214823Z
UID:10004963-1749204000-1749204000@indianolaathletics.com
SUMMARY:Baseball: JV 2  vs. Newton (Away)
DESCRIPTION:Type: Double Header  Opponent: Newton  Bus: 8:00AM  Dismissal:   Est.return:
URL:https://indianolaathletics.com/event/baseball-jv-2-vs-newton-away/
LOCATION:Newton High School
CATEGORIES:Baseball
END:VEVENT
BEGIN:VEVENT
DTSTART;TZID=America/Chicago:20250124T193000
DTEND;TZID=America/Chicago:20250124T193000
DTSTAMP:20260419T092245
CREATED:20240502T021710Z
LAST-MODIFIED:20250122T162249Z
UID:10004643-1737747000-1737747000@indianolaathletics.com
SUMMARY:Basketball: Boys Varsity  vs. Newton (Away)
DESCRIPTION:Type: Game  Opponent: Newton  Bus: 5:00PM  Dismissal:   Est.return:
URL:https://indianolaathletics.com/event/basketball-boys-varsity-vs-newton-away-4/
LOCATION:Newton High School
CATEGORIES:Boys Basketball
END:VEVENT
BEGIN:VEVENT
DTSTART;TZID=America/Chicago:20250124T180000
DTEND;TZID=America/Chicago:20250124T180000
DTSTAMP:20260419T092245
CREATED:20240501T213135Z
LAST-MODIFIED:20250122T171417Z
UID:10004604-1737741600-1737741600@indianolaathletics.com
SUMMARY:Basketball: Girls Varsity  vs. Newton (Away)
DESCRIPTION:Type: Game  Opponent: Newton  Bus: 3:45PM  Dismissal:   Est.return:
URL:https://indianolaathletics.com/event/basketball-girls-varsity-vs-newton-away-4/
LOCATION:Newton High School
CATEGORIES:Girls Basketball
END:VEVENT
BEGIN:VEVENT
DTSTART;TZID=America/Chicago:20250124T174500
DTEND;TZID=America/Chicago:20250124T174500
DTSTAMP:20260419T092245
CREATED:20240502T021710Z
LAST-MODIFIED:20250122T162249Z
UID:10004642-1737740700-1737740700@indianolaathletics.com
SUMMARY:Basketball: Boys 9th Grade  vs. Newton (Away)
DESCRIPTION:Type: Game  Opponent: Newton  Bus: 3:45PM  Dismissal:   Est.return:
URL:https://indianolaathletics.com/event/basketball-boys-9th-grade-vs-newton-away-4/
LOCATION:Newton High School
CATEGORIES:Boys Basketball
END:VEVENT
BEGIN:VEVENT
DTSTART;TZID=America/Chicago:20250124T163000
DTEND;TZID=America/Chicago:20250124T163000
DTSTAMP:20260419T092245
CREATED:20240502T021710Z
LAST-MODIFIED:20250122T162249Z
UID:10004641-1737736200-1737736200@indianolaathletics.com
SUMMARY:Basketball: Boys 10th Grade  vs. Newton (Away)
DESCRIPTION:Type: Game  Opponent: Newton  Bus: 2:45PM  Dismissal:   Est.return:
URL:https://indianolaathletics.com/event/basketball-boys-10th-grade-vs-newton-away-4/
LOCATION:Newton High School
CATEGORIES:Boys Basketball
END:VEVENT
BEGIN:VEVENT
DTSTART;TZID=America/Chicago:20250124T163000
DTEND;TZID=America/Chicago:20250124T163000
DTSTAMP:20260419T092245
CREATED:20240501T213134Z
LAST-MODIFIED:20250122T171416Z
UID:10004601-1737736200-1737736200@indianolaathletics.com
SUMMARY:Basketball: Girls JV 1  vs. Newton (Away)
DESCRIPTION:Type: Game  Opponent: Newton  Bus: 2:45PM  Dismissal:   Est.return:
URL:https://indianolaathletics.com/event/basketball-girls-jv-1-vs-newton-away-4/
LOCATION:Newton High School
CATEGORIES:Girls Basketball
END:VEVENT
BEGIN:VEVENT
DTSTART;TZID=America/Chicago:20241001T141500
DTEND;TZID=America/Chicago:20241001T141500
DTSTAMP:20260419T092245
CREATED:20240503T003119Z
LAST-MODIFIED:20240822T031816Z
UID:10004699-1727792100-1727792100@indianolaathletics.com
SUMMARY:Volleyball: Varsity  vs. Newton (Away)
DESCRIPTION:Type: Match  Opponent: Newton  Bus: 4:30PM  Dismissal:   Est.return:
URL:https://indianolaathletics.com/event/volleyball-varsity-vs-newton-away-2/
LOCATION:Newton High School
CATEGORIES:Volleyball
END:VEVENT
BEGIN:VEVENT
DTSTART;TZID=America/Chicago:20241001T123000
DTEND;TZID=America/Chicago:20241001T123000
DTSTAMP:20260419T092245
CREATED:20240613T214048Z
LAST-MODIFIED:20240822T031815Z
UID:10004595-1727785800-1727785800@indianolaathletics.com
SUMMARY:Volleyball: 9th Grade  vs. Newton (Away)
DESCRIPTION:Type: Match  Opponent: Newton  Bus: 3:30PM  Dismissal:   Est.return:
URL:https://indianolaathletics.com/event/volleyball-9th-grade-vs-newton-away-2/
LOCATION:Newton High School
CATEGORIES:Volleyball
END:VEVENT
BEGIN:VEVENT
DTSTART;TZID=America/Chicago:20240119T134500
DTEND;TZID=America/Chicago:20240119T134500
DTSTAMP:20260419T092245
CREATED:20230719T045032Z
LAST-MODIFIED:20240120T001050Z
UID:10003934-1705671900-1705671900@indianolaathletics.com
SUMMARY:Basketball: Boys Varsity  vs. Newton (Away)
DESCRIPTION:Type: Game  Opponent: Newton  Bus: 5:00PM  Dismissal:   Est.return:
URL:https://indianolaathletics.com/event/basketball-boys-varsity-vs-newton-away-3/
LOCATION:Newton High School
CATEGORIES:Boys Basketball
END:VEVENT
BEGIN:VEVENT
DTSTART;TZID=America/Chicago:20240119T121500
DTEND;TZID=America/Chicago:20240119T121500
DTSTAMP:20260419T092245
CREATED:20230719T211951Z
LAST-MODIFIED:20240119T155558Z
UID:10003978-1705666500-1705666500@indianolaathletics.com
SUMMARY:Basketball: Girls Varsity  vs. Newton (Away)
DESCRIPTION:Type: Game  Opponent: Newton  Bus: 4:00PM  Dismissal:   Est.return:
URL:https://indianolaathletics.com/event/basketball-girls-varsity-vs-newton-away-3/
LOCATION:Newton High School
CATEGORIES:Girls Basketball
END:VEVENT
BEGIN:VEVENT
DTSTART;TZID=America/Chicago:20240119T120000
DTEND;TZID=America/Chicago:20240119T120000
DTSTAMP:20260419T092245
CREATED:20230719T045032Z
LAST-MODIFIED:20240118T235551Z
UID:10003933-1705665600-1705665600@indianolaathletics.com
SUMMARY:Basketball: Boys 9th Grade  vs. Newton (Away)
DESCRIPTION:Type: Game  Opponent: Newton  Bus: 4:00PM  Dismissal:   Est.return:
URL:https://indianolaathletics.com/event/basketball-boys-9th-grade-vs-newton-away-3/
LOCATION:Newton High School
CATEGORIES:Boys Basketball
END:VEVENT
BEGIN:VEVENT
DTSTART;TZID=America/Chicago:20240119T104500
DTEND;TZID=America/Chicago:20240119T104500
DTSTAMP:20260419T092245
CREATED:20230719T211951Z
LAST-MODIFIED:20240119T155558Z
UID:10003977-1705661100-1705661100@indianolaathletics.com
SUMMARY:Basketball: Girls JV 1  (Cancelled) vs. Newton (Away)
DESCRIPTION:Type: Game  Opponent: Newton
URL:https://indianolaathletics.com/event/basketball-girls-jv-1-vs-newton-away-3/
LOCATION:Newton High School
CATEGORIES:Girls Basketball
END:VEVENT
BEGIN:VEVENT
DTSTART;TZID=America/Chicago:20240119T104500
DTEND;TZID=America/Chicago:20240119T104500
DTSTAMP:20260419T092245
CREATED:20230719T045032Z
LAST-MODIFIED:20240118T235550Z
UID:10003932-1705661100-1705661100@indianolaathletics.com
SUMMARY:Basketball: Boys 10th Grade  vs. Newton (Away)
DESCRIPTION:Type: Game  Opponent: Newton  Bus: 3:00PM  Dismissal:   Est.return:
URL:https://indianolaathletics.com/event/basketball-boys-10th-grade-vs-newton-away-3/
LOCATION:Newton High School
CATEGORIES:Boys Basketball
END:VEVENT
BEGIN:VEVENT
DTSTART;TZID=America/Chicago:20231130T133000
DTEND;TZID=America/Chicago:20231130T133000
DTSTAMP:20260419T092245
CREATED:20230830T044938Z
LAST-MODIFIED:20231130T054944Z
UID:10003957-1701351000-1701351000@indianolaathletics.com
SUMMARY:Wrestling: Boys Varsity  vs. Newton (Away)
DESCRIPTION:Type: Dual  Opponent: Newton  Bus: 3:30PM  Dismissal:   Est.return:
URL:https://indianolaathletics.com/event/wrestling-boys-varsity-vs-newton-away/
LOCATION:Newton High School
CATEGORIES:Wrestling
END:VEVENT
BEGIN:VEVENT
DTSTART;TZID=America/Chicago:20231130T123000
DTEND;TZID=America/Chicago:20231130T123000
DTSTAMP:20260419T092245
CREATED:20230916T043452Z
LAST-MODIFIED:20231130T054944Z
UID:10004048-1701347400-1701347400@indianolaathletics.com
SUMMARY:Wrestling: Boys JV  vs. Newton (Away)
DESCRIPTION:Type: Dual  Opponent: Newton  Bus: 3:30PM  Dismissal:   Est.return:
URL:https://indianolaathletics.com/event/wrestling-boys-jv-vs-newton-away/
LOCATION:Newton High School
CATEGORIES:Wrestling
END:VEVENT
END:VCALENDAR