BEGIN:VCALENDAR
VERSION:2.0
PRODID:-//Indianola Athletic Booster Club - ECPv6.15.20//NONSGML v1.0//EN
CALSCALE:GREGORIAN
METHOD:PUBLISH
X-ORIGINAL-URL:https://indianolaathletics.com
X-WR-CALDESC:Events for Indianola Athletic Booster Club
REFRESH-INTERVAL;VALUE=DURATION:PT1H
X-Robots-Tag:noindex
X-PUBLISHED-TTL:PT1H
BEGIN:VTIMEZONE
TZID:America/Chicago
BEGIN:DAYLIGHT
TZOFFSETFROM:-0600
TZOFFSETTO:-0500
TZNAME:CDT
DTSTART:20220313T080000
END:DAYLIGHT
BEGIN:STANDARD
TZOFFSETFROM:-0500
TZOFFSETTO:-0600
TZNAME:CST
DTSTART:20221106T070000
END:STANDARD
BEGIN:DAYLIGHT
TZOFFSETFROM:-0600
TZOFFSETTO:-0500
TZNAME:CDT
DTSTART:20230312T080000
END:DAYLIGHT
BEGIN:STANDARD
TZOFFSETFROM:-0500
TZOFFSETTO:-0600
TZNAME:CST
DTSTART:20231105T070000
END:STANDARD
BEGIN:DAYLIGHT
TZOFFSETFROM:-0600
TZOFFSETTO:-0500
TZNAME:CDT
DTSTART:20240310T080000
END:DAYLIGHT
BEGIN:STANDARD
TZOFFSETFROM:-0500
TZOFFSETTO:-0600
TZNAME:CST
DTSTART:20241103T070000
END:STANDARD
END:VTIMEZONE
BEGIN:VEVENT
DTSTART;TZID=America/Chicago:20231130T133000
DTEND;TZID=America/Chicago:20231130T133000
DTSTAMP:20260419T111356
CREATED:20230830T044938Z
LAST-MODIFIED:20231130T054944Z
UID:10003957-1701351000-1701351000@indianolaathletics.com
SUMMARY:Wrestling: Boys Varsity  vs. Newton (Away)
DESCRIPTION:Type: Dual  Opponent: Newton  Bus: 3:30PM  Dismissal:   Est.return:
URL:https://indianolaathletics.com/event/wrestling-boys-varsity-vs-newton-away/
LOCATION:Newton High School
CATEGORIES:Wrestling
END:VEVENT
BEGIN:VEVENT
DTSTART;TZID=America/Chicago:20231130T123000
DTEND;TZID=America/Chicago:20231130T123000
DTSTAMP:20260419T111356
CREATED:20230916T043452Z
LAST-MODIFIED:20231130T054944Z
UID:10004048-1701347400-1701347400@indianolaathletics.com
SUMMARY:Wrestling: Boys JV  vs. Newton (Away)
DESCRIPTION:Type: Dual  Opponent: Newton  Bus: 3:30PM  Dismissal:   Est.return:
URL:https://indianolaathletics.com/event/wrestling-boys-jv-vs-newton-away/
LOCATION:Newton High School
CATEGORIES:Wrestling
END:VEVENT
END:VCALENDAR