BEGIN:VCALENDAR
VERSION:2.0
PRODID:-//Indianola Athletic Booster Club - ECPv6.15.20//NONSGML v1.0//EN
CALSCALE:GREGORIAN
METHOD:PUBLISH
X-WR-CALNAME:Indianola Athletic Booster Club
X-ORIGINAL-URL:https://indianolaathletics.com
X-WR-CALDESC:Events for Indianola Athletic Booster Club
REFRESH-INTERVAL;VALUE=DURATION:PT1H
X-Robots-Tag:noindex
X-PUBLISHED-TTL:PT1H
BEGIN:VTIMEZONE
TZID:America/Chicago
BEGIN:DAYLIGHT
TZOFFSETFROM:-0600
TZOFFSETTO:-0500
TZNAME:CDT
DTSTART:20220313T080000
END:DAYLIGHT
BEGIN:STANDARD
TZOFFSETFROM:-0500
TZOFFSETTO:-0600
TZNAME:CST
DTSTART:20221106T070000
END:STANDARD
BEGIN:DAYLIGHT
TZOFFSETFROM:-0600
TZOFFSETTO:-0500
TZNAME:CDT
DTSTART:20230312T080000
END:DAYLIGHT
BEGIN:STANDARD
TZOFFSETFROM:-0500
TZOFFSETTO:-0600
TZNAME:CST
DTSTART:20231105T070000
END:STANDARD
BEGIN:DAYLIGHT
TZOFFSETFROM:-0600
TZOFFSETTO:-0500
TZNAME:CDT
DTSTART:20240310T080000
END:DAYLIGHT
BEGIN:STANDARD
TZOFFSETFROM:-0500
TZOFFSETTO:-0600
TZNAME:CST
DTSTART:20241103T070000
END:STANDARD
BEGIN:DAYLIGHT
TZOFFSETFROM:-0600
TZOFFSETTO:-0500
TZNAME:CDT
DTSTART:20250309T080000
END:DAYLIGHT
BEGIN:STANDARD
TZOFFSETFROM:-0500
TZOFFSETTO:-0600
TZNAME:CST
DTSTART:20251102T070000
END:STANDARD
BEGIN:DAYLIGHT
TZOFFSETFROM:-0600
TZOFFSETTO:-0500
TZNAME:CDT
DTSTART:20260308T080000
END:DAYLIGHT
BEGIN:STANDARD
TZOFFSETFROM:-0500
TZOFFSETTO:-0600
TZNAME:CST
DTSTART:20261101T070000
END:STANDARD
END:VTIMEZONE
BEGIN:VEVENT
DTSTART;TZID=America/Chicago:20250403T161500
DTEND;TZID=America/Chicago:20250403T203000
DTSTAMP:20260419T150203
CREATED:20250122T160948Z
LAST-MODIFIED:20250328T050316Z
UID:10004909-1743696900-1743712200@indianolaathletics.com
SUMMARY:Track & Field: Girls JV/Varsity  vs.  Ankeny Centennial Cedar Falls Johnston Dowling Catholic WDM Valley Norwalk">Multiple Schools (Away)
DESCRIPTION:Type: Invitational  Opponent:  Ankeny Centennial Cedar Falls Johnston Dowling Catholic WDM Valley Norwalk”>Multiple Schools
URL:https://indianolaathletics.com/event/track-field-girls-jv-varsity-vs-ankeny-centennial-cedar-falls-johnston-dowling-catholic-wdm-valley-norwalkmultiple-schools-away/
LOCATION:Northview Middle School
CATEGORIES:Girls Track and Field
END:VEVENT
BEGIN:VEVENT
DTSTART;TZID=America/Chicago:20241202T103000
DTEND;TZID=America/Chicago:20241202T103000
DTSTAMP:20260419T150203
CREATED:20240619T033312Z
LAST-MODIFIED:20240822T023311Z
UID:10004813-1733135400-1733135400@indianolaathletics.com
SUMMARY:Wrestling: Girls Middle School  vs. Ankeny (Away)
DESCRIPTION:Type: Meet  Opponent: Ankeny  Bus: 3:00PM  Dismissal:   Est.return:
URL:https://indianolaathletics.com/event/wrestling-girls-middle-school-vs-ankeny-away/
LOCATION:Northview Middle School
CATEGORIES:Girls Wrestling
END:VEVENT
BEGIN:VEVENT
DTSTART;TZID=America/Chicago:20241105T103000
DTEND;TZID=America/Chicago:20241105T103000
DTSTAMP:20260419T150203
CREATED:20240619T044813Z
LAST-MODIFIED:20240822T044819Z
UID:10004819-1730802600-1730802600@indianolaathletics.com
SUMMARY:Wrestling: Boys Middle School  vs.  Waukee Prairieview">Multiple Schools (Away)
DESCRIPTION:Type: Meet  Opponent:  Waukee Prairieview”>Multiple Schools  Bus: 3:00PM  Dismissal:   Est.return:
URL:https://indianolaathletics.com/event/wrestling-boys-middle-school-vs-waukee-prairieviewmultiple-schools-away/
LOCATION:Northview Middle School
CATEGORIES:Wrestling
END:VEVENT
BEGIN:VEVENT
DTSTART;TZID=America/Chicago:20241104T103000
DTEND;TZID=America/Chicago:20241104T103000
DTSTAMP:20260419T150203
CREATED:20240619T000357Z
LAST-MODIFIED:20240822T020326Z
UID:10004787-1730716200-1730716200@indianolaathletics.com
SUMMARY:Basketball: Girls 8th Grade  vs. Ankeny Centennial (Away)
DESCRIPTION:Type: Game  Opponent: Ankeny Centennial  Bus: 3:00PM  Dismissal:   Est.return:
URL:https://indianolaathletics.com/event/basketball-girls-8th-grade-vs-ankeny-centennial-away/
LOCATION:Northview Middle School
CATEGORIES:Girls Basketball
END:VEVENT
BEGIN:VEVENT
DTSTART;TZID=America/Chicago:20240416T113000
DTEND;TZID=America/Chicago:20240416T160000
DTSTAMP:20260419T150203
CREATED:20240217T134408Z
LAST-MODIFIED:20240324T202918Z
UID:10004477-1713267000-1713283200@indianolaathletics.com
SUMMARY:Track & Field: Boys JV/Varsity  vs.  Southeast Polk North Polk Gilbert Dowling Catholic Waukee Marshalltown Des Moines Hoover Carlisle Waukee Northwest">Multiple Schools (Away)
DESCRIPTION:Type: Invitational  Opponent:  Southeast Polk North Polk Gilbert Dowling Catholic Waukee Marshalltown Des Moines Hoover Carlisle Waukee Northwest”>Multiple Schools  Bus: 2:45PM  Dismissal:   Est.return:
URL:https://indianolaathletics.com/event/track-field-boys-jv-varsity-vs-southeast-polk-north-polk-gilbert-dowling-catholic-waukee-marshalltown-des-moines-hoover-carlisle-waukee-northwestmultiple-schools-away/
LOCATION:Northview Middle School
CATEGORIES:Boys Track and Field
END:VEVENT
BEGIN:VEVENT
DTSTART;TZID=America/Chicago:20240416T111500
DTEND;TZID=America/Chicago:20240416T154500
DTSTAMP:20260419T150203
CREATED:20240325T202908Z
LAST-MODIFIED:20240416T205908Z
UID:10004520-1713266100-1713282300@indianolaathletics.com
SUMMARY:Track & Field: Boys JV/Varsity  vs.  Southeast Polk North Polk Gilbert Dowling Catholic Waukee Marshalltown Des Moines Hoover Carlisle Waukee Northwest">Multiple Schools (Away)
DESCRIPTION:Type: Invitational  Opponent:  Southeast Polk North Polk Gilbert Dowling Catholic Waukee Marshalltown Des Moines Hoover Carlisle Waukee Northwest”>Multiple Schools  Bus: 2:45PM  Dismissal:   Est.return:
URL:https://indianolaathletics.com/event/track-field-boys-jv-varsity-vs-southeast-polk-north-polk-gilbert-dowling-catholic-waukee-marshalltown-des-moines-hoover-carlisle-waukee-northwestmultiple-schools-away-2/
LOCATION:Northview Middle School
CATEGORIES:Boys Track and Field
END:VEVENT
BEGIN:VEVENT
DTSTART;TZID=America/Chicago:20240404T113000
DTEND;TZID=America/Chicago:20240404T154500
DTSTAMP:20260419T150203
CREATED:20240104T054044Z
LAST-MODIFIED:20240325T065943Z
UID:10004333-1712230200-1712245500@indianolaathletics.com
SUMMARY:Track & Field: Girls JV/Varsity  vs.  Ankeny Centennial Dowling Catholic Johnston Mason City Norwalk WDM Valley">Multiple Schools (Away)
DESCRIPTION:Type: Invitational  Opponent:  Ankeny Centennial Dowling Catholic Johnston Mason City Norwalk WDM Valley”>Multiple Schools  Bus: 2:45PM  Dismissal:   Est.return:
URL:https://indianolaathletics.com/event/track-field-girls-jv-varsity-vs-ankeny-centennial-dowling-catholic-johnston-mason-city-norwalk-wdm-valleymultiple-schools-away/
LOCATION:Northview Middle School
CATEGORIES:Girls Track and Field
END:VEVENT
BEGIN:VEVENT
DTSTART;TZID=America/Chicago:20240404T111500
DTEND;TZID=America/Chicago:20240404T153000
DTSTAMP:20260419T150203
CREATED:20240326T071406Z
LAST-MODIFIED:20240403T082916Z
UID:10004525-1712229300-1712244600@indianolaathletics.com
SUMMARY:Track & Field: Girls JV/Varsity  vs.  Ankeny Centennial Dowling Catholic Johnston Mason City Norwalk WDM Valley">Multiple Schools (Away)
DESCRIPTION:Type: Invitational  Opponent:  Ankeny Centennial Dowling Catholic Johnston Mason City Norwalk WDM Valley”>Multiple Schools  Bus: 2:45PM  Dismissal:   Est.return:
URL:https://indianolaathletics.com/event/track-field-girls-jv-varsity-vs-ankeny-centennial-dowling-catholic-johnston-mason-city-norwalk-wdm-valleymultiple-schools-away-2/
LOCATION:Northview Middle School
CATEGORIES:Girls Track and Field
END:VEVENT
BEGIN:VEVENT
DTSTART;TZID=America/Chicago:20240122T103000
DTEND;TZID=America/Chicago:20240122T103000
DTSTAMP:20260419T150203
CREATED:20230816T023214Z
LAST-MODIFIED:20240122T002559Z
UID:10003996-1705919400-1705919400@indianolaathletics.com
SUMMARY:Basketball: Boys 8th Grade  vs. Ankeny Centennial (Away)
DESCRIPTION:Type: Game  Opponent: Ankeny Centennial  Bus: 3:00PM  Dismissal:   Est.return:
URL:https://indianolaathletics.com/event/basketball-boys-8th-grade-vs-ankeny-centennial-away-2/
LOCATION:Northview Middle School
CATEGORIES:Boys Basketball
END:VEVENT
BEGIN:VEVENT
DTSTART;TZID=America/Chicago:20231209T030000
DTEND;TZID=America/Chicago:20231209T130000
DTSTAMP:20260419T150203
CREATED:20231206T220121Z
LAST-MODIFIED:20231209T030443Z
UID:10004310-1702090800-1702126800@indianolaathletics.com
SUMMARY:Wrestling: Girls Varsity  vs.  Mason City Norwalk Pella Community West Marshall">Multiple Schools (Away)
DESCRIPTION:Type: Tournament  Opponent:  Mason City Norwalk Pella Community West Marshall”>Multiple Schools  Bus: 6:15AM  Dismissal:   Est.return:
URL:https://indianolaathletics.com/event/wrestling-girls-varsity-vs-mason-city-norwalk-pella-community-west-marshallmultiple-schools-away/
LOCATION:Northview Middle School
CATEGORIES:Girls Wrestling
END:VEVENT
BEGIN:VEVENT
DTSTART;TZID=America/Chicago:20231208T113000
DTEND;TZID=America/Chicago:20231208T113000
DTSTAMP:20260419T150203
CREATED:20230916T043453Z
LAST-MODIFIED:20231208T054944Z
UID:10004051-1702035000-1702035000@indianolaathletics.com
SUMMARY:Wrestling: Boys JV  vs.  Ankeny WDM Valley Ames Des Moines Roosevelt">Multiple Schools (Away)
DESCRIPTION:Type: Tournament  Opponent:  Ankeny WDM Valley Ames Des Moines Roosevelt”>Multiple Schools  Bus: 3:30PM  Dismissal:   Est.return:
URL:https://indianolaathletics.com/event/wrestling-boys-jv-vs-ankeny-wdm-valleymultiple-schools-away/
LOCATION:Northview Middle School
CATEGORIES:Wrestling
END:VEVENT
END:VCALENDAR