BEGIN:VCALENDAR
VERSION:2.0
PRODID:-//Indianola Athletic Booster Club - ECPv6.15.20//NONSGML v1.0//EN
CALSCALE:GREGORIAN
METHOD:PUBLISH
X-WR-CALNAME:Indianola Athletic Booster Club
X-ORIGINAL-URL:https://indianolaathletics.com
X-WR-CALDESC:Events for Indianola Athletic Booster Club
REFRESH-INTERVAL;VALUE=DURATION:PT1H
X-Robots-Tag:noindex
X-PUBLISHED-TTL:PT1H
BEGIN:VTIMEZONE
TZID:America/Chicago
BEGIN:DAYLIGHT
TZOFFSETFROM:-0600
TZOFFSETTO:-0500
TZNAME:CDT
DTSTART:20220313T080000
END:DAYLIGHT
BEGIN:STANDARD
TZOFFSETFROM:-0500
TZOFFSETTO:-0600
TZNAME:CST
DTSTART:20221106T070000
END:STANDARD
BEGIN:DAYLIGHT
TZOFFSETFROM:-0600
TZOFFSETTO:-0500
TZNAME:CDT
DTSTART:20230312T080000
END:DAYLIGHT
BEGIN:STANDARD
TZOFFSETFROM:-0500
TZOFFSETTO:-0600
TZNAME:CST
DTSTART:20231105T070000
END:STANDARD
BEGIN:DAYLIGHT
TZOFFSETFROM:-0600
TZOFFSETTO:-0500
TZNAME:CDT
DTSTART:20240310T080000
END:DAYLIGHT
BEGIN:STANDARD
TZOFFSETFROM:-0500
TZOFFSETTO:-0600
TZNAME:CST
DTSTART:20241103T070000
END:STANDARD
BEGIN:DAYLIGHT
TZOFFSETFROM:-0600
TZOFFSETTO:-0500
TZNAME:CDT
DTSTART:20250309T080000
END:DAYLIGHT
BEGIN:STANDARD
TZOFFSETFROM:-0500
TZOFFSETTO:-0600
TZNAME:CST
DTSTART:20251102T070000
END:STANDARD
END:VTIMEZONE
BEGIN:VEVENT
DTSTART;TZID=America/Chicago:20240118T133000
DTEND;TZID=America/Chicago:20240118T133000
DTSTAMP:20260423T122415
CREATED:20230830T044953Z
LAST-MODIFIED:20240118T054050Z
UID:10004043-1705584600-1705584600@indianolaathletics.com
SUMMARY:Wrestling: Boys Varsity  vs. Oskaloosa (Away)
DESCRIPTION:Type: Dual  Opponent: Oskaloosa  Bus: 3:15PM  Dismissal:   Est.return:
URL:https://indianolaathletics.com/event/wrestling-boys-varsity-vs-oskaloosa-away/
LOCATION:Oskaloosa High School
CATEGORIES:Wrestling
END:VEVENT
BEGIN:VEVENT
DTSTART;TZID=America/Chicago:20240118T123000
DTEND;TZID=America/Chicago:20240118T123000
DTSTAMP:20260423T122415
CREATED:20230916T043520Z
LAST-MODIFIED:20240118T054049Z
UID:10004058-1705581000-1705581000@indianolaathletics.com
SUMMARY:Wrestling: Boys JV  vs. Oskaloosa (Away)
DESCRIPTION:Type: Dual  Opponent: Oskaloosa  Bus: 3:15PM  Dismissal:   Est.return:
URL:https://indianolaathletics.com/event/wrestling-boys-jv-vs-oskaloosa-away/
LOCATION:Oskaloosa High School
CATEGORIES:Wrestling
END:VEVENT
BEGIN:VEVENT
DTSTART;TZID=America/Chicago:20231208T134500
DTEND;TZID=America/Chicago:20231208T134500
DTSTAMP:20260423T122415
CREATED:20230719T045025Z
LAST-MODIFIED:20231208T050442Z
UID:10003909-1702043100-1702043100@indianolaathletics.com
SUMMARY:Basketball: Boys Varsity  vs. Oskaloosa (Away)
DESCRIPTION:Type: Game  Opponent: Oskaloosa  Bus: 5:00PM  Dismissal:   Est.return:
URL:https://indianolaathletics.com/event/basketball-boys-varsity-vs-oskaloosa-away-3/
LOCATION:Oskaloosa High School
CATEGORIES:Boys Basketball
END:VEVENT
BEGIN:VEVENT
DTSTART;TZID=America/Chicago:20231208T121500
DTEND;TZID=America/Chicago:20231208T121500
DTSTAMP:20260423T122415
CREATED:20230719T211946Z
LAST-MODIFIED:20231208T150441Z
UID:10003891-1702037700-1702037700@indianolaathletics.com
SUMMARY:Basketball: Girls Varsity  vs. Oskaloosa (Away)
DESCRIPTION:Type: Game  Opponent: Oskaloosa  Bus: 3:00PM  Dismissal:   Est.return:
URL:https://indianolaathletics.com/event/basketball-girls-varsity-vs-oskaloosa-away-3/
LOCATION:Oskaloosa High School
CATEGORIES:Girls Basketball
END:VEVENT
BEGIN:VEVENT
DTSTART;TZID=America/Chicago:20231208T120000
DTEND;TZID=America/Chicago:20231208T120000
DTSTAMP:20260423T122415
CREATED:20231115T033511Z
LAST-MODIFIED:20231208T050442Z
UID:10004223-1702036800-1702036800@indianolaathletics.com
SUMMARY:Basketball: Boys 9th Grade  (Date Changed to 12-07-23) vs. Oskaloosa (Away)
DESCRIPTION:Type: Game  Opponent: Oskaloosa
URL:https://indianolaathletics.com/event/basketball-boys-9th-grade-date-changed-to-12-07-23-vs-oskaloosa-away/
LOCATION:Oskaloosa High School
CATEGORIES:Boys Basketball
END:VEVENT
BEGIN:VEVENT
DTSTART;TZID=America/Chicago:20231208T120000
DTEND;TZID=America/Chicago:20231208T120000
DTSTAMP:20260423T122415
CREATED:20230719T045025Z
LAST-MODIFIED:20231114T033440Z
UID:10003908-1702036800-1702036800@indianolaathletics.com
SUMMARY:Basketball: Boys 9th Grade  vs. Oskaloosa (Away)
DESCRIPTION:Type: Game  Opponent: Oskaloosa  Bus: 4:00PM  Dismissal:   Est.return:
URL:https://indianolaathletics.com/event/basketball-boys-9th-grade-vs-oskaloosa-away-4/
LOCATION:Oskaloosa High School
CATEGORIES:Boys Basketball
END:VEVENT
BEGIN:VEVENT
DTSTART;TZID=America/Chicago:20231208T104500
DTEND;TZID=America/Chicago:20231208T104500
DTSTAMP:20260423T122415
CREATED:20231115T033511Z
LAST-MODIFIED:20231208T050442Z
UID:10004222-1702032300-1702032300@indianolaathletics.com
SUMMARY:Basketball: Boys 10th Grade  (Date Changed to 12-07-23) vs. Oskaloosa (Away)
DESCRIPTION:Type: Game  Opponent: Oskaloosa
URL:https://indianolaathletics.com/event/basketball-boys-10th-grade-date-changed-to-12-07-23-vs-oskaloosa-away/
LOCATION:Oskaloosa High School
CATEGORIES:Boys Basketball
END:VEVENT
BEGIN:VEVENT
DTSTART;TZID=America/Chicago:20231208T104500
DTEND;TZID=America/Chicago:20231208T104500
DTSTAMP:20260423T122415
CREATED:20230719T211946Z
LAST-MODIFIED:20231208T150441Z
UID:10003890-1702032300-1702032300@indianolaathletics.com
SUMMARY:Basketball: Girls JV 1  vs. Oskaloosa (Away)
DESCRIPTION:Type: Game  Opponent: Oskaloosa  Bus: 3:00PM  Dismissal:   Est.return:
URL:https://indianolaathletics.com/event/basketball-girls-jv-1-vs-oskaloosa-away-3/
LOCATION:Oskaloosa High School
CATEGORIES:Girls Basketball
END:VEVENT
BEGIN:VEVENT
DTSTART;TZID=America/Chicago:20231208T104500
DTEND;TZID=America/Chicago:20231208T104500
DTSTAMP:20260423T122415
CREATED:20230719T045025Z
LAST-MODIFIED:20231114T033440Z
UID:10003907-1702032300-1702032300@indianolaathletics.com
SUMMARY:Basketball: Boys 10th Grade  vs. Oskaloosa (Away)
DESCRIPTION:Type: Game  Opponent: Oskaloosa  Bus: 3:00PM  Dismissal:   Est.return:
URL:https://indianolaathletics.com/event/basketball-boys-10th-grade-vs-oskaloosa-away-4/
LOCATION:Oskaloosa High School
CATEGORIES:Boys Basketball
END:VEVENT
BEGIN:VEVENT
DTSTART;TZID=America/Chicago:20231207T131500
DTEND;TZID=America/Chicago:20231207T131500
DTSTAMP:20260423T122415
CREATED:20231115T033511Z
LAST-MODIFIED:20231207T050442Z
UID:10004221-1701954900-1701954900@indianolaathletics.com
SUMMARY:Basketball: Boys 10th Grade (Date & Time Changed from 12-08-23) vs. Oskaloosa (Away)
DESCRIPTION:Type: Game  Opponent: Oskaloosa  Bus: 4:15PM  Dismissal:   Est.return:
URL:https://indianolaathletics.com/event/basketball-boys-10th-grade-date-time-changed-from-12-08-23-vs-oskaloosa-away/
LOCATION:Oskaloosa High School
CATEGORIES:Boys Basketball
END:VEVENT
BEGIN:VEVENT
DTSTART;TZID=America/Chicago:20231207T120000
DTEND;TZID=America/Chicago:20231207T120000
DTSTAMP:20260423T122415
CREATED:20231115T033510Z
LAST-MODIFIED:20231207T050441Z
UID:10004220-1701950400-1701950400@indianolaathletics.com
SUMMARY:Basketball: Boys 9th Grade  (Date Changed from 12-08-23) vs. Oskaloosa (Away)
DESCRIPTION:Type: Game  Opponent: Oskaloosa  Bus: 4:15PM  Dismissal:   Est.return:
URL:https://indianolaathletics.com/event/basketball-boys-9th-grade-date-changed-from-12-08-23-vs-oskaloosa-away/
LOCATION:Oskaloosa High School
CATEGORIES:Boys Basketball
END:VEVENT
END:VCALENDAR