BEGIN:VCALENDAR
VERSION:2.0
PRODID:-//Indianola Athletic Booster Club - ECPv6.15.20//NONSGML v1.0//EN
CALSCALE:GREGORIAN
METHOD:PUBLISH
X-ORIGINAL-URL:https://indianolaathletics.com
X-WR-CALDESC:Events for Indianola Athletic Booster Club
REFRESH-INTERVAL;VALUE=DURATION:PT1H
X-Robots-Tag:noindex
X-PUBLISHED-TTL:PT1H
BEGIN:VTIMEZONE
TZID:America/Chicago
BEGIN:DAYLIGHT
TZOFFSETFROM:-0600
TZOFFSETTO:-0500
TZNAME:CDT
DTSTART:20230312T080000
END:DAYLIGHT
BEGIN:STANDARD
TZOFFSETFROM:-0500
TZOFFSETTO:-0600
TZNAME:CST
DTSTART:20231105T070000
END:STANDARD
BEGIN:DAYLIGHT
TZOFFSETFROM:-0600
TZOFFSETTO:-0500
TZNAME:CDT
DTSTART:20240310T080000
END:DAYLIGHT
BEGIN:STANDARD
TZOFFSETFROM:-0500
TZOFFSETTO:-0600
TZNAME:CST
DTSTART:20241103T070000
END:STANDARD
BEGIN:DAYLIGHT
TZOFFSETFROM:-0600
TZOFFSETTO:-0500
TZNAME:CDT
DTSTART:20250309T080000
END:DAYLIGHT
BEGIN:STANDARD
TZOFFSETFROM:-0500
TZOFFSETTO:-0600
TZNAME:CST
DTSTART:20251102T070000
END:STANDARD
END:VTIMEZONE
BEGIN:VEVENT
DTSTART;TZID=America/Chicago:20241118T180000
DTEND;TZID=America/Chicago:20241118T180000
DTSTAMP:20260424T040234
CREATED:20240502T213123Z
LAST-MODIFIED:20240822T020331Z
UID:10004689-1731952800-1731952800@indianolaathletics.com
SUMMARY:Basketball: Girls Varsity  vs. Roland-Story (Away)
DESCRIPTION:Type: Scrimmage  Opponent: Roland-Story
URL:https://indianolaathletics.com/event/basketball-girls-varsity-vs-roland-story-away/
LOCATION:Roland-Story High School
CATEGORIES:Girls Basketball
END:VEVENT
BEGIN:VEVENT
DTSTART;TZID=America/Chicago:20241118T180000
DTEND;TZID=America/Chicago:20241118T180000
DTSTAMP:20260424T040234
CREATED:20240502T213123Z
LAST-MODIFIED:20240822T020331Z
UID:10004690-1731952800-1731952800@indianolaathletics.com
SUMMARY:Basketball: Girls JV 1  vs. Roland-Story (Away)
DESCRIPTION:Type: Scrimmage  Opponent: Roland-Story
URL:https://indianolaathletics.com/event/basketball-girls-jv-1-vs-roland-story-away/
LOCATION:Roland-Story High School
CATEGORIES:Girls Basketball
END:VEVENT
END:VCALENDAR