BEGIN:VCALENDAR
VERSION:2.0
PRODID:-//Indianola Athletic Booster Club - ECPv6.15.20//NONSGML v1.0//EN
CALSCALE:GREGORIAN
METHOD:PUBLISH
X-ORIGINAL-URL:https://indianolaathletics.com
X-WR-CALDESC:Events for Indianola Athletic Booster Club
REFRESH-INTERVAL;VALUE=DURATION:PT1H
X-Robots-Tag:noindex
X-PUBLISHED-TTL:PT1H
BEGIN:VTIMEZONE
TZID:America/Chicago
BEGIN:DAYLIGHT
TZOFFSETFROM:-0600
TZOFFSETTO:-0500
TZNAME:CDT
DTSTART:20250309T080000
END:DAYLIGHT
BEGIN:STANDARD
TZOFFSETFROM:-0500
TZOFFSETTO:-0600
TZNAME:CST
DTSTART:20251102T070000
END:STANDARD
BEGIN:DAYLIGHT
TZOFFSETFROM:-0600
TZOFFSETTO:-0500
TZNAME:CDT
DTSTART:20260308T080000
END:DAYLIGHT
BEGIN:STANDARD
TZOFFSETFROM:-0500
TZOFFSETTO:-0600
TZNAME:CST
DTSTART:20261101T070000
END:STANDARD
BEGIN:DAYLIGHT
TZOFFSETFROM:-0600
TZOFFSETTO:-0500
TZNAME:CDT
DTSTART:20270314T080000
END:DAYLIGHT
BEGIN:STANDARD
TZOFFSETFROM:-0500
TZOFFSETTO:-0600
TZNAME:CST
DTSTART:20271107T070000
END:STANDARD
END:VTIMEZONE
BEGIN:VEVENT
DTSTART;TZID=America/Chicago:20260630T170000
DTEND;TZID=America/Chicago:20260630T190000
DTSTAMP:20260423T141048
CREATED:20250812T151817Z
LAST-MODIFIED:20260421T171844Z
UID:10005647-1782838800-1782846000@indianolaathletics.com
SUMMARY:Baseball: Indianola vs Urbandale (Varsity)
DESCRIPTION:Varsity Baseball – Indianola vs Urbandale
URL:https://indianolaathletics.com/event/baseball-indianola-vs-urbandale-varsity/
LOCATION:Urbandale High School Barton Field
CATEGORIES:Baseball
END:VEVENT
BEGIN:VEVENT
DTSTART;TZID=America/Chicago:20260630T190000
DTEND;TZID=America/Chicago:20260630T210000
DTSTAMP:20260423T141048
CREATED:20250812T151817Z
LAST-MODIFIED:20260106T161850Z
UID:10005648-1782846000-1782853200@indianolaathletics.com
SUMMARY:Baseball: Indianola vs Urbandale (Varsity)
DESCRIPTION:Varsity Baseball – Indianola vs Urbandale
URL:https://indianolaathletics.com/event/baseball-indianola-vs-urbandale-varsity-2/
LOCATION:Urbandale High School Barton Field
CATEGORIES:Baseball
END:VEVENT
BEGIN:VEVENT
DTSTART;TZID=America/Chicago:20260630T190000
DTEND;TZID=America/Chicago:20260630T210000
DTSTAMP:20260423T141048
CREATED:20260113T161843Z
LAST-MODIFIED:20260421T171844Z
UID:10006107-1782846000-1782853200@indianolaathletics.com
SUMMARY:Baseball: Indianola vs Urbandale (Varsity)
DESCRIPTION:Varsity Baseball – Indianola vs Urbandale
URL:https://indianolaathletics.com/event/baseball-indianola-vs-urbandale-varsity-3/
LOCATION:Urbandale High School Barton Field
CATEGORIES:Baseball
END:VEVENT
END:VCALENDAR