BEGIN:VCALENDAR
VERSION:2.0
PRODID:-//Indianola Athletic Booster Club - ECPv6.15.20//NONSGML v1.0//EN
CALSCALE:GREGORIAN
METHOD:PUBLISH
X-WR-CALNAME:Indianola Athletic Booster Club
X-ORIGINAL-URL:https://indianolaathletics.com
X-WR-CALDESC:Events for Indianola Athletic Booster Club
REFRESH-INTERVAL;VALUE=DURATION:PT1H
X-Robots-Tag:noindex
X-PUBLISHED-TTL:PT1H
BEGIN:VTIMEZONE
TZID:America/Chicago
BEGIN:DAYLIGHT
TZOFFSETFROM:-0600
TZOFFSETTO:-0500
TZNAME:CDT
DTSTART:20230312T080000
END:DAYLIGHT
BEGIN:STANDARD
TZOFFSETFROM:-0500
TZOFFSETTO:-0600
TZNAME:CST
DTSTART:20231105T070000
END:STANDARD
BEGIN:DAYLIGHT
TZOFFSETFROM:-0600
TZOFFSETTO:-0500
TZNAME:CDT
DTSTART:20240310T080000
END:DAYLIGHT
BEGIN:STANDARD
TZOFFSETFROM:-0500
TZOFFSETTO:-0600
TZNAME:CST
DTSTART:20241103T070000
END:STANDARD
BEGIN:DAYLIGHT
TZOFFSETFROM:-0600
TZOFFSETTO:-0500
TZNAME:CDT
DTSTART:20250309T080000
END:DAYLIGHT
BEGIN:STANDARD
TZOFFSETFROM:-0500
TZOFFSETTO:-0600
TZNAME:CST
DTSTART:20251102T070000
END:STANDARD
BEGIN:DAYLIGHT
TZOFFSETFROM:-0600
TZOFFSETTO:-0500
TZNAME:CDT
DTSTART:20260308T080000
END:DAYLIGHT
BEGIN:STANDARD
TZOFFSETFROM:-0500
TZOFFSETTO:-0600
TZNAME:CST
DTSTART:20261101T070000
END:STANDARD
END:VTIMEZONE
BEGIN:VEVENT
DTSTART;TZID=America/Chicago:20250408T163000
DTEND;TZID=America/Chicago:20250408T163000
DTSTAMP:20260423T083642
CREATED:20250122T160938Z
LAST-MODIFIED:20250403T160311Z
UID:10004891-1744129800-1744129800@indianolaathletics.com
SUMMARY:Track & Field: Boys JV/Varsity  vs.  Ottumwa Southeast Polk Ankeny Johnston Dowling Catholic Waukee">Multiple Schools (Away)
DESCRIPTION:Type: Meet  Opponent:  Ottumwa Southeast Polk Ankeny Johnston Dowling Catholic Waukee”>Multiple Schools
URL:https://indianolaathletics.com/event/track-field-boys-jv-varsity-vs-ottumwa-southeast-polk-ankeny-johnston-dowling-catholic-waukeemultiple-schools-away/
LOCATION:Urbandale High School
CATEGORIES:Boys Track and Field
END:VEVENT
BEGIN:VEVENT
DTSTART;TZID=America/Chicago:20241125T134500
DTEND;TZID=America/Chicago:20241125T151500
DTSTAMP:20260423T083642
CREATED:20240501T213129Z
LAST-MODIFIED:20240822T020331Z
UID:10004572-1732542300-1732547700@indianolaathletics.com
SUMMARY:Basketball: Girls Varsity  vs. Urbandale (Away)
DESCRIPTION:Type: Game  Opponent: Urbandale  Bus: 4:30PM  Dismissal:   Est.return:
URL:https://indianolaathletics.com/event/basketball-girls-varsity-vs-urbandale-away/
LOCATION:Urbandale High School
CATEGORIES:Girls Basketball
END:VEVENT
BEGIN:VEVENT
DTSTART;TZID=America/Chicago:20241125T121500
DTEND;TZID=America/Chicago:20241125T121500
DTSTAMP:20260423T083642
CREATED:20240626T003318Z
LAST-MODIFIED:20240822T020331Z
UID:10004834-1732536900-1732536900@indianolaathletics.com
SUMMARY:Basketball: Girls JV 1  vs. Urbandale (Away)
DESCRIPTION:Type: Game  Opponent: Urbandale  Bus: 4:30PM  Dismissal:   Est.return:
URL:https://indianolaathletics.com/event/basketball-girls-jv-1-vs-urbandale-away/
LOCATION:Urbandale High School
CATEGORIES:Girls Basketball
END:VEVENT
BEGIN:VEVENT
DTSTART;TZID=America/Chicago:20241121T103000
DTEND;TZID=America/Chicago:20241121T103000
DTSTAMP:20260423T083642
CREATED:20240619T033312Z
LAST-MODIFIED:20240822T023310Z
UID:10004808-1732185000-1732185000@indianolaathletics.com
SUMMARY:Wrestling: Girls Middle School  vs. Urbandale (Away)
DESCRIPTION:Type: Meet  Opponent: Urbandale  Bus: 3:00PM  Dismissal:   Est.return:
URL:https://indianolaathletics.com/event/wrestling-girls-middle-school-vs-urbandale-away-3/
LOCATION:Urbandale High School
CATEGORIES:Girls Wrestling
END:VEVENT
BEGIN:VEVENT
DTSTART;TZID=America/Chicago:20241005T030000
DTEND;TZID=America/Chicago:20241005T120000
DTSTAMP:20260423T083642
CREATED:20240503T003119Z
LAST-MODIFIED:20240822T031816Z
UID:10004700-1728097200-1728129600@indianolaathletics.com
SUMMARY:Volleyball: Varsity  vs.  Southeast Polk North Polk Western Christian Johnston Ames Des Moines East Des Moines Roosevelt Ankeny Centennial Sioux City North Des Moines Christian Adel DeSoto Minburn CSD Council Bluffs Abraham Lincoln Dallas Center-Grimes HS Waukee Northwest">Multiple Schools (Away)
DESCRIPTION:Type: Invitational  Opponent:  Southeast Polk North Polk Western Christian Johnston Ames Des Moines East Des Moines Roosevelt Ankeny Centennial Sioux City North Des Moines Christian Adel DeSoto Minburn CSD Council Bluffs Abraham Lincoln Dallas Center-Grimes HS Waukee Northwest”>Multiple Schools  Bus: 6:15AM  Dismissal:   Est.return:
URL:https://indianolaathletics.com/event/volleyball-varsity-vs-southeast-polk-north-polk-western-christian-johnston-ames-des-moines-east-des-moines-roosevelt-ankeny-centennial-sioux-city-north-des-moines-christian-adel-desoto-minburn-csd/
LOCATION:Urbandale High School
CATEGORIES:Volleyball
END:VEVENT
BEGIN:VEVENT
DTSTART;TZID=America/Chicago:20240902T130000
DTEND;TZID=America/Chicago:20240902T150000
DTSTAMP:20260423T083642
CREATED:20240516T083131Z
LAST-MODIFIED:20240822T051816Z
UID:10004544-1725282000-1725289200@indianolaathletics.com
SUMMARY:Football: JV  vs. Urbandale (Away)
DESCRIPTION:Type: Game  Opponent: Urbandale  Bus: 4:15PM  Dismissal:   Est.return:
URL:https://indianolaathletics.com/event/football-jv-vs-urbandale-away/
LOCATION:Urbandale High School
CATEGORIES:Football
END:VEVENT
BEGIN:VEVENT
DTSTART;TZID=America/Chicago:20240830T140000
DTEND;TZID=America/Chicago:20240830T140000
DTSTAMP:20260423T083642
CREATED:20240516T083131Z
LAST-MODIFIED:20240822T051816Z
UID:10004543-1725026400-1725026400@indianolaathletics.com
SUMMARY:Football: Varsity  vs. Urbandale (Away)
DESCRIPTION:Type: Game  Opponent: Urbandale  Bus: 4:30PM  Dismissal:   Est.return:
URL:https://indianolaathletics.com/event/football-varsity-vs-urbandale-away/
LOCATION:Urbandale High School
CATEGORIES:Football
END:VEVENT
BEGIN:VEVENT
DTSTART;TZID=America/Chicago:20240530T120000
DTEND;TZID=America/Chicago:20240530T140000
DTSTAMP:20260423T083642
CREATED:20231205T003451Z
LAST-MODIFIED:20240530T011650Z
UID:10004238-1717070400-1717077600@indianolaathletics.com
SUMMARY:Baseball: Varsity  vs. Urbandale (Away)
DESCRIPTION:Type: Double Header  Opponent: Urbandale  Bus: 3:15PM  Dismissal:   Est.return:
URL:https://indianolaathletics.com/event/baseball-varsity-vs-urbandale-away-4/
LOCATION:Urbandale High School
CATEGORIES:Baseball
END:VEVENT
BEGIN:VEVENT
DTSTART;TZID=America/Chicago:20240515T120000
DTEND;TZID=America/Chicago:20240515T160000
DTSTAMP:20260423T083642
CREATED:20231206T003436Z
LAST-MODIFIED:20240514T233136Z
UID:10004278-1715774400-1715788800@indianolaathletics.com
SUMMARY:Baseball: JV 2  vs. Urbandale (Away)
DESCRIPTION:Type: Double Header  Opponent: Urbandale  Bus: 3:15PM  Dismissal:   Est.return:
URL:https://indianolaathletics.com/event/baseball-jv-2-vs-urbandale-away-4/
LOCATION:Urbandale High School
CATEGORIES:Baseball
END:VEVENT
BEGIN:VEVENT
DTSTART;TZID=America/Chicago:20240416T113000
DTEND;TZID=America/Chicago:20240416T113000
DTSTAMP:20260423T083642
CREATED:20231005T231940Z
LAST-MODIFIED:20240416T092920Z
UID:10004174-1713267000-1713267000@indianolaathletics.com
SUMMARY:Track & Field: Girls 8th Grade  vs. Urbandale (Away)
DESCRIPTION:Type: Meet  Opponent: Urbandale  Bus: 3:00PM  Dismissal:   Est.return:
URL:https://indianolaathletics.com/event/track-field-girls-8th-grade-vs-urbandale-away-3/
LOCATION:Urbandale High School
CATEGORIES:Girls Track and Field
END:VEVENT
BEGIN:VEVENT
DTSTART;TZID=America/Chicago:20240416T113000
DTEND;TZID=America/Chicago:20240416T113000
DTSTAMP:20260423T083642
CREATED:20231005T231940Z
LAST-MODIFIED:20240416T092921Z
UID:10004175-1713267000-1713267000@indianolaathletics.com
SUMMARY:Track & Field: Girls 7th Grade  vs. Urbandale (Away)
DESCRIPTION:Type: Meet  Opponent: Urbandale  Bus: 3:00PM  Dismissal:   Est.return:
URL:https://indianolaathletics.com/event/track-field-girls-7th-grade-vs-urbandale-away-3/
LOCATION:Urbandale High School
CATEGORIES:Girls Track and Field
END:VEVENT
BEGIN:VEVENT
DTSTART;TZID=America/Chicago:20240409T113000
DTEND;TZID=America/Chicago:20240409T113000
DTSTAMP:20260423T083642
CREATED:20240217T134407Z
LAST-MODIFIED:20240409T204427Z
UID:10004332-1712662200-1712662200@indianolaathletics.com
SUMMARY:Track & Field: Boys JV/Varsity  vs.  Ankeny Dallas Center-Grimes HS Dowling Catholic Johnston Ottumwa Waukee">Multiple Schools (Away)
DESCRIPTION:Type: Invitational  Opponent:  Ankeny Dallas Center-Grimes HS Dowling Catholic Johnston Ottumwa Waukee”>Multiple Schools  Bus: 2:45PM  Dismissal:   Est.return:
URL:https://indianolaathletics.com/event/track-field-boys-jv-varsity-vs-ankeny-dallas-center-grimes-hs-dowling-catholic-johnston-ottumwa-waukeemultiple-schools-away/
LOCATION:Urbandale High School
CATEGORIES:Boys Track and Field
END:VEVENT
BEGIN:VEVENT
DTSTART;TZID=America/Chicago:20240406T050000
DTEND;TZID=America/Chicago:20240406T113000
DTSTAMP:20260423T083642
CREATED:20231004T134937Z
LAST-MODIFIED:20240105T185554Z
UID:10004124-1712379600-1712403000@indianolaathletics.com
SUMMARY:Soccer: Boys Varsity  vs.  Ames Council Bluffs Abraham Lincoln">Multiple Schools (Away)
DESCRIPTION:Type: Invitational  Opponent:  Ames Council Bluffs Abraham Lincoln”>Multiple Schools
URL:https://indianolaathletics.com/event/soccer-boys-varsity-vs-ames-council-bluffs-abraham-lincolnmultiple-schools-away/
LOCATION:Urbandale High School
CATEGORIES:Boys Soccer
END:VEVENT
BEGIN:VEVENT
DTSTART;TZID=America/Chicago:20240406T040000
DTEND;TZID=America/Chicago:20240406T103000
DTSTAMP:20260423T083642
CREATED:20240106T191055Z
LAST-MODIFIED:20240405T231408Z
UID:10004377-1712376000-1712399400@indianolaathletics.com
SUMMARY:Soccer: Boys Varsity  vs.  Ames Council Bluffs Abraham Lincoln">Multiple Schools (Away)
DESCRIPTION:Type: Invitational  Opponent:  Ames Council Bluffs Abraham Lincoln”>Multiple Schools  Bus: 8:15AM  Dismissal:   Est.return:   Comments: 10:30 AM vs. CB AL 1:45 PM vs. Urbandale
URL:https://indianolaathletics.com/event/soccer-boys-varsity-vs-ames-council-bluffs-abraham-lincolnmultiple-schools-away-2/
LOCATION:Urbandale High School
CATEGORIES:Boys Soccer
END:VEVENT
END:VCALENDAR