BEGIN:VCALENDAR
VERSION:2.0
PRODID:-//Indianola Athletic Booster Club - ECPv6.15.20//NONSGML v1.0//EN
CALSCALE:GREGORIAN
METHOD:PUBLISH
X-ORIGINAL-URL:https://indianolaathletics.com
X-WR-CALDESC:Events for Indianola Athletic Booster Club
REFRESH-INTERVAL;VALUE=DURATION:PT1H
X-Robots-Tag:noindex
X-PUBLISHED-TTL:PT1H
BEGIN:VTIMEZONE
TZID:America/Chicago
BEGIN:DAYLIGHT
TZOFFSETFROM:-0600
TZOFFSETTO:-0500
TZNAME:CDT
DTSTART:20220313T080000
END:DAYLIGHT
BEGIN:STANDARD
TZOFFSETFROM:-0500
TZOFFSETTO:-0600
TZNAME:CST
DTSTART:20221106T070000
END:STANDARD
BEGIN:DAYLIGHT
TZOFFSETFROM:-0600
TZOFFSETTO:-0500
TZNAME:CDT
DTSTART:20230312T080000
END:DAYLIGHT
BEGIN:STANDARD
TZOFFSETFROM:-0500
TZOFFSETTO:-0600
TZNAME:CST
DTSTART:20231105T070000
END:STANDARD
BEGIN:DAYLIGHT
TZOFFSETFROM:-0600
TZOFFSETTO:-0500
TZNAME:CDT
DTSTART:20240310T080000
END:DAYLIGHT
BEGIN:STANDARD
TZOFFSETFROM:-0500
TZOFFSETTO:-0600
TZNAME:CST
DTSTART:20241103T070000
END:STANDARD
BEGIN:DAYLIGHT
TZOFFSETFROM:-0600
TZOFFSETTO:-0500
TZNAME:CDT
DTSTART:20250309T080000
END:DAYLIGHT
BEGIN:STANDARD
TZOFFSETFROM:-0500
TZOFFSETTO:-0600
TZNAME:CST
DTSTART:20251102T070000
END:STANDARD
END:VTIMEZONE
BEGIN:VEVENT
DTSTART;TZID=America/Chicago:20241207T050000
DTEND;TZID=America/Chicago:20241207T050000
DTSTAMP:20260419T075852
CREATED:20240723T044810Z
LAST-MODIFIED:20240822T044820Z
UID:10004849-1733547600-1733547600@indianolaathletics.com
SUMMARY:Wrestling: Boys Varsity  vs. West Delaware (Away)
DESCRIPTION:Type: Tournament  Opponent: West Delaware
URL:https://indianolaathletics.com/event/wrestling-boys-varsity-vs-west-delaware-away/
LOCATION:West Delaware High School
CATEGORIES:Wrestling
END:VEVENT
BEGIN:VEVENT
DTSTART;TZID=America/Chicago:20231202T050000
DTEND;TZID=America/Chicago:20231202T050000
DTSTAMP:20260419T075852
CREATED:20230830T044939Z
LAST-MODIFIED:20231202T054945Z
UID:10003959-1701493200-1701493200@indianolaathletics.com
SUMMARY:Wrestling: Boys Varsity  vs.  Davenport North North Butler Fairfield Dike-New Hartford CSD Muscatine Anamosa Benton Community Iowa Grant Central DeWitt Maquoketa Valley Red Oak Edgewood-Colesburg">Multiple Schools (Away)
DESCRIPTION:Type: Tournament  Opponent:  Davenport North North Butler Fairfield Dike-New Hartford CSD Muscatine Anamosa Benton Community Iowa Grant Central DeWitt Maquoketa Valley Red Oak Edgewood-Colesburg”>Multiple Schools  Bus: 5:00AM  Dismissal:   Est.return:
URL:https://indianolaathletics.com/event/wrestling-boys-varsity-vs-iowa-grant-north-butler-fairfield-dike-new-hartford-csd-muscatine-anamosa-benton-community-central-dewitt-maquoketa-valley-red-oak-edgewood-colesburgmultiple-school/
LOCATION:West Delaware High School
CATEGORIES:Wrestling
END:VEVENT
BEGIN:VEVENT
DTSTART;TZID=America/Chicago:20231202T020000
DTEND;TZID=America/Chicago:20231202T020000
DTSTAMP:20260419T075852
CREATED:20230916T043452Z
LAST-MODIFIED:20231202T054945Z
UID:10004049-1701482400-1701482400@indianolaathletics.com
SUMMARY:Wrestling: Boys JV  vs.  North Butler Fairfield Dike-New Hartford CSD Muscatine Anamosa Benton Community Iowa Grant Davenport North Central DeWitt Maquoketa Valley Red Oak">Multiple Schools (Away)
DESCRIPTION:Type: Tournament  Opponent:  North Butler Fairfield Dike-New Hartford CSD Muscatine Anamosa Benton Community Iowa Grant Davenport North Central DeWitt Maquoketa Valley Red Oak”>Multiple Schools  Bus: 5:00AM  Dismissal:   Est.return:
URL:https://indianolaathletics.com/event/wrestling-boys-jv-vs-north-butler-fairfield-dike-new-hartford-csd-muscatine-anamosa-benton-community-iowa-grant-central-dewitt-maquoketa-valley-red-oakmultiple-schools-away/
LOCATION:West Delaware High School
CATEGORIES:Wrestling
END:VEVENT
END:VCALENDAR