BEGIN:VCALENDAR
VERSION:2.0
PRODID:-//Indianola Athletic Booster Club - ECPv6.15.20//NONSGML v1.0//EN
CALSCALE:GREGORIAN
METHOD:PUBLISH
X-WR-CALNAME:Indianola Athletic Booster Club
X-ORIGINAL-URL:https://indianolaathletics.com
X-WR-CALDESC:Events for Indianola Athletic Booster Club
REFRESH-INTERVAL;VALUE=DURATION:PT1H
X-Robots-Tag:noindex
X-PUBLISHED-TTL:PT1H
BEGIN:VTIMEZONE
TZID:America/Chicago
BEGIN:DAYLIGHT
TZOFFSETFROM:-0600
TZOFFSETTO:-0500
TZNAME:CDT
DTSTART:20230312T080000
END:DAYLIGHT
BEGIN:STANDARD
TZOFFSETFROM:-0500
TZOFFSETTO:-0600
TZNAME:CST
DTSTART:20231105T070000
END:STANDARD
BEGIN:DAYLIGHT
TZOFFSETFROM:-0600
TZOFFSETTO:-0500
TZNAME:CDT
DTSTART:20240310T080000
END:DAYLIGHT
BEGIN:STANDARD
TZOFFSETFROM:-0500
TZOFFSETTO:-0600
TZNAME:CST
DTSTART:20241103T070000
END:STANDARD
BEGIN:DAYLIGHT
TZOFFSETFROM:-0600
TZOFFSETTO:-0500
TZNAME:CDT
DTSTART:20250309T080000
END:DAYLIGHT
BEGIN:STANDARD
TZOFFSETFROM:-0500
TZOFFSETTO:-0600
TZNAME:CST
DTSTART:20251102T070000
END:STANDARD
BEGIN:DAYLIGHT
TZOFFSETFROM:-0600
TZOFFSETTO:-0500
TZNAME:CDT
DTSTART:20260308T080000
END:DAYLIGHT
BEGIN:STANDARD
TZOFFSETFROM:-0500
TZOFFSETTO:-0600
TZNAME:CST
DTSTART:20261101T070000
END:STANDARD
END:VTIMEZONE
BEGIN:VEVENT
DTSTART;TZID=America/Chicago:20250208T090000
DTEND;TZID=America/Chicago:20250208T090000
DTSTAMP:20260420T135047
CREATED:20250122T151611Z
LAST-MODIFIED:20250205T153316Z
UID:10004882-1739005200-1739005200@indianolaathletics.com
SUMMARY:Wrestling: Boys Varsity  vs. IHSAA (Away)
DESCRIPTION:Type: State Dual Meet  Opponent: IHSAA
URL:https://indianolaathletics.com/event/wrestling-boys-varsity-vs-ihsaa-away/
LOCATION:Xtream Arena
CATEGORIES:Wrestling
END:VEVENT
BEGIN:VEVENT
DTSTART;TZID=America/Chicago:20240203T030000
DTEND;TZID=America/Chicago:20240203T030000
DTSTAMP:20260420T135047
CREATED:20240201T054044Z
LAST-MODIFIED:20240203T054049Z
UID:10004441-1706929200-1706929200@indianolaathletics.com
SUMMARY:Wrestling: Boys Varsity  vs. IHSAA (Away)
DESCRIPTION:Type: State Dual Meet  Opponent: IHSAA
URL:https://indianolaathletics.com/event/wrestling-boys-varsity-vs-ihsaa-away-10/
LOCATION:Xtream Arena
CATEGORIES:Wrestling
END:VEVENT
BEGIN:VEVENT
DTSTART;TZID=America/Chicago:20240202T040000
DTEND;TZID=America/Chicago:20240202T040000
DTSTAMP:20260420T135047
CREATED:20240129T051045Z
LAST-MODIFIED:20240202T051046Z
UID:10004434-1706846400-1706846400@indianolaathletics.com
SUMMARY:Wrestling: Girls Varsity  vs. IGHSAU (Away)
DESCRIPTION:Type: State Tournament  Opponent: IGHSAU
URL:https://indianolaathletics.com/event/wrestling-girls-varsity-vs-ighsau-away-3/
LOCATION:Xtream Arena
CATEGORIES:Girls Wrestling
END:VEVENT
BEGIN:VEVENT
DTSTART;TZID=America/Chicago:20240201T040000
DTEND;TZID=America/Chicago:20240201T040000
DTSTAMP:20260420T135047
CREATED:20240129T051045Z
LAST-MODIFIED:20240201T051047Z
UID:10004433-1706760000-1706760000@indianolaathletics.com
SUMMARY:Wrestling: Girls Varsity  vs. IGHSAU (Away)
DESCRIPTION:Type: State Tournament  Opponent: IGHSAU
URL:https://indianolaathletics.com/event/wrestling-girls-varsity-vs-ighsau-away-2/
LOCATION:Xtream Arena
CATEGORIES:Girls Wrestling
END:VEVENT
END:VCALENDAR